BEGIN:VCALENDAR
VERSION:2.0
PRODID:-//Jesmond Pool &amp; Gym - ECPv6.15.17.1//NONSGML v1.0//EN
CALSCALE:GREGORIAN
METHOD:PUBLISH
X-WR-CALNAME:Jesmond Pool &amp; Gym
X-ORIGINAL-URL:https://jesmondpool.online
X-WR-CALDESC:Events for Jesmond Pool &amp; Gym
REFRESH-INTERVAL;VALUE=DURATION:PT1H
X-Robots-Tag:noindex
X-PUBLISHED-TTL:PT1H
BEGIN:VTIMEZONE
TZID:Europe/London
BEGIN:DAYLIGHT
TZOFFSETFROM:+0000
TZOFFSETTO:+0100
TZNAME:BST
DTSTART:20250330T010000
END:DAYLIGHT
BEGIN:STANDARD
TZOFFSETFROM:+0100
TZOFFSETTO:+0000
TZNAME:GMT
DTSTART:20251026T010000
END:STANDARD
BEGIN:DAYLIGHT
TZOFFSETFROM:+0000
TZOFFSETTO:+0100
TZNAME:BST
DTSTART:20260329T010000
END:DAYLIGHT
BEGIN:STANDARD
TZOFFSETFROM:+0100
TZOFFSETTO:+0000
TZNAME:GMT
DTSTART:20261025T010000
END:STANDARD
BEGIN:DAYLIGHT
TZOFFSETFROM:+0000
TZOFFSETTO:+0100
TZNAME:BST
DTSTART:20270328T010000
END:DAYLIGHT
BEGIN:STANDARD
TZOFFSETFROM:+0100
TZOFFSETTO:+0000
TZNAME:GMT
DTSTART:20271031T010000
END:STANDARD
END:VTIMEZONE
BEGIN:VEVENT
DTSTART;TZID=Europe/London:20260427T093000
DTEND;TZID=Europe/London:20260427T120000
DTSTAMP:20260423T222003
CREATED:20260423T070312Z
LAST-MODIFIED:20260423T070312Z
UID:10026164-1777282200-1777291200@jesmondpool.online
SUMMARY:General Swim (Sauna and Steam Open) (10am to 10.45am Aquafit in the Deep end)
DESCRIPTION:
URL:https://jesmondpool.online/event/general-swim-sauna-and-steam-open-10am-to-10-45am-aquafit-in-the-deep-end/2026-04-27/
CATEGORIES:Pool Timetable
ORGANIZER;CN="Jesmond Pool":MAILTO:info@jesmondpool.online
END:VEVENT
BEGIN:VEVENT
DTSTART;TZID=Europe/London:20260504T093000
DTEND;TZID=Europe/London:20260504T120000
DTSTAMP:20260423T222003
CREATED:20260423T070312Z
LAST-MODIFIED:20260423T070312Z
UID:10026165-1777887000-1777896000@jesmondpool.online
SUMMARY:General Swim (Sauna and Steam Open) (10am to 10.45am Aquafit in the Deep end)
DESCRIPTION:
URL:https://jesmondpool.online/event/general-swim-sauna-and-steam-open-10am-to-10-45am-aquafit-in-the-deep-end/2026-05-04/
CATEGORIES:Pool Timetable
ORGANIZER;CN="Jesmond Pool":MAILTO:info@jesmondpool.online
END:VEVENT
BEGIN:VEVENT
DTSTART;TZID=Europe/London:20260511T093000
DTEND;TZID=Europe/London:20260511T120000
DTSTAMP:20260423T222003
CREATED:20260423T070312Z
LAST-MODIFIED:20260423T070312Z
UID:10026166-1778491800-1778500800@jesmondpool.online
SUMMARY:General Swim (Sauna and Steam Open) (10am to 10.45am Aquafit in the Deep end)
DESCRIPTION:
URL:https://jesmondpool.online/event/general-swim-sauna-and-steam-open-10am-to-10-45am-aquafit-in-the-deep-end/2026-05-11/
CATEGORIES:Pool Timetable
ORGANIZER;CN="Jesmond Pool":MAILTO:info@jesmondpool.online
END:VEVENT
BEGIN:VEVENT
DTSTART;TZID=Europe/London:20260518T093000
DTEND;TZID=Europe/London:20260518T120000
DTSTAMP:20260423T222003
CREATED:20260423T070312Z
LAST-MODIFIED:20260423T070312Z
UID:10026167-1779096600-1779105600@jesmondpool.online
SUMMARY:General Swim (Sauna and Steam Open) (10am to 10.45am Aquafit in the Deep end)
DESCRIPTION:
URL:https://jesmondpool.online/event/general-swim-sauna-and-steam-open-10am-to-10-45am-aquafit-in-the-deep-end/2026-05-18/
CATEGORIES:Pool Timetable
ORGANIZER;CN="Jesmond Pool":MAILTO:info@jesmondpool.online
END:VEVENT
END:VCALENDAR