BEGIN:VCALENDAR
VERSION:2.0
PRODID:-//Jesmond Pool &amp; Gym - ECPv6.15.17.1//NONSGML v1.0//EN
CALSCALE:GREGORIAN
METHOD:PUBLISH
X-WR-CALNAME:Jesmond Pool &amp; Gym
X-ORIGINAL-URL:https://jesmondpool.online
X-WR-CALDESC:Events for Jesmond Pool &amp; Gym
REFRESH-INTERVAL;VALUE=DURATION:PT1H
X-Robots-Tag:noindex
X-PUBLISHED-TTL:PT1H
BEGIN:VTIMEZONE
TZID:Europe/London
BEGIN:DAYLIGHT
TZOFFSETFROM:+0000
TZOFFSETTO:+0100
TZNAME:BST
DTSTART:20250330T010000
END:DAYLIGHT
BEGIN:STANDARD
TZOFFSETFROM:+0100
TZOFFSETTO:+0000
TZNAME:GMT
DTSTART:20251026T010000
END:STANDARD
BEGIN:DAYLIGHT
TZOFFSETFROM:+0000
TZOFFSETTO:+0100
TZNAME:BST
DTSTART:20260329T010000
END:DAYLIGHT
BEGIN:STANDARD
TZOFFSETFROM:+0100
TZOFFSETTO:+0000
TZNAME:GMT
DTSTART:20261025T010000
END:STANDARD
BEGIN:DAYLIGHT
TZOFFSETFROM:+0000
TZOFFSETTO:+0100
TZNAME:BST
DTSTART:20270328T010000
END:DAYLIGHT
BEGIN:STANDARD
TZOFFSETFROM:+0100
TZOFFSETTO:+0000
TZNAME:GMT
DTSTART:20271031T010000
END:STANDARD
END:VTIMEZONE
BEGIN:VEVENT
DTSTART;TZID=Europe/London:20260427T200000
DTEND;TZID=Europe/London:20260427T220000
DTSTAMP:20260423T022634
CREATED:20260422T185316Z
LAST-MODIFIED:20260422T185316Z
UID:10026104-1777320000-1777327200@jesmondpool.online
SUMMARY:Chill Out Session (Adults Only)
DESCRIPTION:
URL:https://jesmondpool.online/event/chill-out-session-adults-only-16/2026-04-27/
LOCATION:Jesmond Pool & Gym\, St Georges Terrace\, Jesmond\, Newcastle upon Tyne\, NE2 2DL\, United Kingdom
CATEGORIES:Pool Timetable
ORGANIZER;CN="Jesmond Pool":MAILTO:info@jesmondpool.online
END:VEVENT
BEGIN:VEVENT
DTSTART;TZID=Europe/London:20260428T200000
DTEND;TZID=Europe/London:20260428T220000
DTSTAMP:20260423T022634
CREATED:20260422T185316Z
LAST-MODIFIED:20260422T185316Z
UID:10026105-1777406400-1777413600@jesmondpool.online
SUMMARY:Chill Out Session (Adults Only)
DESCRIPTION:
URL:https://jesmondpool.online/event/chill-out-session-adults-only-16/2026-04-28/
LOCATION:Jesmond Pool & Gym\, St Georges Terrace\, Jesmond\, Newcastle upon Tyne\, NE2 2DL\, United Kingdom
CATEGORIES:Pool Timetable
ORGANIZER;CN="Jesmond Pool":MAILTO:info@jesmondpool.online
END:VEVENT
BEGIN:VEVENT
DTSTART;TZID=Europe/London:20260429T200000
DTEND;TZID=Europe/London:20260429T220000
DTSTAMP:20260423T022634
CREATED:20260422T185316Z
LAST-MODIFIED:20260422T185316Z
UID:10026106-1777492800-1777500000@jesmondpool.online
SUMMARY:Chill Out Session (Adults Only)
DESCRIPTION:
URL:https://jesmondpool.online/event/chill-out-session-adults-only-16/2026-04-29/
LOCATION:Jesmond Pool & Gym\, St Georges Terrace\, Jesmond\, Newcastle upon Tyne\, NE2 2DL\, United Kingdom
CATEGORIES:Pool Timetable
ORGANIZER;CN="Jesmond Pool":MAILTO:info@jesmondpool.online
END:VEVENT
BEGIN:VEVENT
DTSTART;TZID=Europe/London:20260430T200000
DTEND;TZID=Europe/London:20260430T220000
DTSTAMP:20260423T022634
CREATED:20260422T185316Z
LAST-MODIFIED:20260422T185316Z
UID:10026107-1777579200-1777586400@jesmondpool.online
SUMMARY:Chill Out Session (Adults Only)
DESCRIPTION:
URL:https://jesmondpool.online/event/chill-out-session-adults-only-16/2026-04-30/
LOCATION:Jesmond Pool & Gym\, St Georges Terrace\, Jesmond\, Newcastle upon Tyne\, NE2 2DL\, United Kingdom
CATEGORIES:Pool Timetable
ORGANIZER;CN="Jesmond Pool":MAILTO:info@jesmondpool.online
END:VEVENT
BEGIN:VEVENT
DTSTART;TZID=Europe/London:20260501T200000
DTEND;TZID=Europe/London:20260501T220000
DTSTAMP:20260423T022634
CREATED:20260422T185316Z
LAST-MODIFIED:20260422T185316Z
UID:10026108-1777665600-1777672800@jesmondpool.online
SUMMARY:Chill Out Session (Adults Only)
DESCRIPTION:
URL:https://jesmondpool.online/event/chill-out-session-adults-only-16/2026-05-01/
LOCATION:Jesmond Pool & Gym\, St Georges Terrace\, Jesmond\, Newcastle upon Tyne\, NE2 2DL\, United Kingdom
CATEGORIES:Pool Timetable
ORGANIZER;CN="Jesmond Pool":MAILTO:info@jesmondpool.online
END:VEVENT
BEGIN:VEVENT
DTSTART;TZID=Europe/London:20260504T200000
DTEND;TZID=Europe/London:20260504T220000
DTSTAMP:20260423T022634
CREATED:20260422T185316Z
LAST-MODIFIED:20260422T185316Z
UID:10026109-1777924800-1777932000@jesmondpool.online
SUMMARY:Chill Out Session (Adults Only)
DESCRIPTION:
URL:https://jesmondpool.online/event/chill-out-session-adults-only-16/2026-05-04/
LOCATION:Jesmond Pool & Gym\, St Georges Terrace\, Jesmond\, Newcastle upon Tyne\, NE2 2DL\, United Kingdom
CATEGORIES:Pool Timetable
ORGANIZER;CN="Jesmond Pool":MAILTO:info@jesmondpool.online
END:VEVENT
BEGIN:VEVENT
DTSTART;TZID=Europe/London:20260505T200000
DTEND;TZID=Europe/London:20260505T220000
DTSTAMP:20260423T022634
CREATED:20260422T185316Z
LAST-MODIFIED:20260422T185316Z
UID:10026110-1778011200-1778018400@jesmondpool.online
SUMMARY:Chill Out Session (Adults Only)
DESCRIPTION:
URL:https://jesmondpool.online/event/chill-out-session-adults-only-16/2026-05-05/
LOCATION:Jesmond Pool & Gym\, St Georges Terrace\, Jesmond\, Newcastle upon Tyne\, NE2 2DL\, United Kingdom
CATEGORIES:Pool Timetable
ORGANIZER;CN="Jesmond Pool":MAILTO:info@jesmondpool.online
END:VEVENT
BEGIN:VEVENT
DTSTART;TZID=Europe/London:20260506T200000
DTEND;TZID=Europe/London:20260506T220000
DTSTAMP:20260423T022634
CREATED:20260422T185316Z
LAST-MODIFIED:20260422T185316Z
UID:10026111-1778097600-1778104800@jesmondpool.online
SUMMARY:Chill Out Session (Adults Only)
DESCRIPTION:
URL:https://jesmondpool.online/event/chill-out-session-adults-only-16/2026-05-06/
LOCATION:Jesmond Pool & Gym\, St Georges Terrace\, Jesmond\, Newcastle upon Tyne\, NE2 2DL\, United Kingdom
CATEGORIES:Pool Timetable
ORGANIZER;CN="Jesmond Pool":MAILTO:info@jesmondpool.online
END:VEVENT
BEGIN:VEVENT
DTSTART;TZID=Europe/London:20260507T200000
DTEND;TZID=Europe/London:20260507T220000
DTSTAMP:20260423T022634
CREATED:20260422T185316Z
LAST-MODIFIED:20260422T185316Z
UID:10026112-1778184000-1778191200@jesmondpool.online
SUMMARY:Chill Out Session (Adults Only)
DESCRIPTION:
URL:https://jesmondpool.online/event/chill-out-session-adults-only-16/2026-05-07/
LOCATION:Jesmond Pool & Gym\, St Georges Terrace\, Jesmond\, Newcastle upon Tyne\, NE2 2DL\, United Kingdom
CATEGORIES:Pool Timetable
ORGANIZER;CN="Jesmond Pool":MAILTO:info@jesmondpool.online
END:VEVENT
BEGIN:VEVENT
DTSTART;TZID=Europe/London:20260508T200000
DTEND;TZID=Europe/London:20260508T220000
DTSTAMP:20260423T022634
CREATED:20260422T185316Z
LAST-MODIFIED:20260422T185316Z
UID:10026113-1778270400-1778277600@jesmondpool.online
SUMMARY:Chill Out Session (Adults Only)
DESCRIPTION:
URL:https://jesmondpool.online/event/chill-out-session-adults-only-16/2026-05-08/
LOCATION:Jesmond Pool & Gym\, St Georges Terrace\, Jesmond\, Newcastle upon Tyne\, NE2 2DL\, United Kingdom
CATEGORIES:Pool Timetable
ORGANIZER;CN="Jesmond Pool":MAILTO:info@jesmondpool.online
END:VEVENT
BEGIN:VEVENT
DTSTART;TZID=Europe/London:20260511T200000
DTEND;TZID=Europe/London:20260511T220000
DTSTAMP:20260423T022634
CREATED:20260422T185316Z
LAST-MODIFIED:20260422T185316Z
UID:10026114-1778529600-1778536800@jesmondpool.online
SUMMARY:Chill Out Session (Adults Only)
DESCRIPTION:
URL:https://jesmondpool.online/event/chill-out-session-adults-only-16/2026-05-11/
LOCATION:Jesmond Pool & Gym\, St Georges Terrace\, Jesmond\, Newcastle upon Tyne\, NE2 2DL\, United Kingdom
CATEGORIES:Pool Timetable
ORGANIZER;CN="Jesmond Pool":MAILTO:info@jesmondpool.online
END:VEVENT
BEGIN:VEVENT
DTSTART;TZID=Europe/London:20260512T200000
DTEND;TZID=Europe/London:20260512T220000
DTSTAMP:20260423T022634
CREATED:20260422T185316Z
LAST-MODIFIED:20260422T185316Z
UID:10026115-1778616000-1778623200@jesmondpool.online
SUMMARY:Chill Out Session (Adults Only)
DESCRIPTION:
URL:https://jesmondpool.online/event/chill-out-session-adults-only-16/2026-05-12/
LOCATION:Jesmond Pool & Gym\, St Georges Terrace\, Jesmond\, Newcastle upon Tyne\, NE2 2DL\, United Kingdom
CATEGORIES:Pool Timetable
ORGANIZER;CN="Jesmond Pool":MAILTO:info@jesmondpool.online
END:VEVENT
BEGIN:VEVENT
DTSTART;TZID=Europe/London:20260513T200000
DTEND;TZID=Europe/London:20260513T220000
DTSTAMP:20260423T022634
CREATED:20260422T185316Z
LAST-MODIFIED:20260422T185316Z
UID:10026116-1778702400-1778709600@jesmondpool.online
SUMMARY:Chill Out Session (Adults Only)
DESCRIPTION:
URL:https://jesmondpool.online/event/chill-out-session-adults-only-16/2026-05-13/
LOCATION:Jesmond Pool & Gym\, St Georges Terrace\, Jesmond\, Newcastle upon Tyne\, NE2 2DL\, United Kingdom
CATEGORIES:Pool Timetable
ORGANIZER;CN="Jesmond Pool":MAILTO:info@jesmondpool.online
END:VEVENT
BEGIN:VEVENT
DTSTART;TZID=Europe/London:20260514T200000
DTEND;TZID=Europe/London:20260514T220000
DTSTAMP:20260423T022634
CREATED:20260422T185316Z
LAST-MODIFIED:20260422T185316Z
UID:10026117-1778788800-1778796000@jesmondpool.online
SUMMARY:Chill Out Session (Adults Only)
DESCRIPTION:
URL:https://jesmondpool.online/event/chill-out-session-adults-only-16/2026-05-14/
LOCATION:Jesmond Pool & Gym\, St Georges Terrace\, Jesmond\, Newcastle upon Tyne\, NE2 2DL\, United Kingdom
CATEGORIES:Pool Timetable
ORGANIZER;CN="Jesmond Pool":MAILTO:info@jesmondpool.online
END:VEVENT
BEGIN:VEVENT
DTSTART;TZID=Europe/London:20260515T200000
DTEND;TZID=Europe/London:20260515T220000
DTSTAMP:20260423T022634
CREATED:20260422T185316Z
LAST-MODIFIED:20260422T185316Z
UID:10026118-1778875200-1778882400@jesmondpool.online
SUMMARY:Chill Out Session (Adults Only)
DESCRIPTION:
URL:https://jesmondpool.online/event/chill-out-session-adults-only-16/2026-05-15/
LOCATION:Jesmond Pool & Gym\, St Georges Terrace\, Jesmond\, Newcastle upon Tyne\, NE2 2DL\, United Kingdom
CATEGORIES:Pool Timetable
ORGANIZER;CN="Jesmond Pool":MAILTO:info@jesmondpool.online
END:VEVENT
BEGIN:VEVENT
DTSTART;TZID=Europe/London:20260518T200000
DTEND;TZID=Europe/London:20260518T220000
DTSTAMP:20260423T022634
CREATED:20260422T185316Z
LAST-MODIFIED:20260422T185316Z
UID:10026119-1779134400-1779141600@jesmondpool.online
SUMMARY:Chill Out Session (Adults Only)
DESCRIPTION:
URL:https://jesmondpool.online/event/chill-out-session-adults-only-16/2026-05-18/
LOCATION:Jesmond Pool & Gym\, St Georges Terrace\, Jesmond\, Newcastle upon Tyne\, NE2 2DL\, United Kingdom
CATEGORIES:Pool Timetable
ORGANIZER;CN="Jesmond Pool":MAILTO:info@jesmondpool.online
END:VEVENT
BEGIN:VEVENT
DTSTART;TZID=Europe/London:20260519T200000
DTEND;TZID=Europe/London:20260519T220000
DTSTAMP:20260423T022634
CREATED:20260422T185316Z
LAST-MODIFIED:20260422T185316Z
UID:10026120-1779220800-1779228000@jesmondpool.online
SUMMARY:Chill Out Session (Adults Only)
DESCRIPTION:
URL:https://jesmondpool.online/event/chill-out-session-adults-only-16/2026-05-19/
LOCATION:Jesmond Pool & Gym\, St Georges Terrace\, Jesmond\, Newcastle upon Tyne\, NE2 2DL\, United Kingdom
CATEGORIES:Pool Timetable
ORGANIZER;CN="Jesmond Pool":MAILTO:info@jesmondpool.online
END:VEVENT
BEGIN:VEVENT
DTSTART;TZID=Europe/London:20260520T200000
DTEND;TZID=Europe/London:20260520T220000
DTSTAMP:20260423T022634
CREATED:20260422T185316Z
LAST-MODIFIED:20260422T185316Z
UID:10026121-1779307200-1779314400@jesmondpool.online
SUMMARY:Chill Out Session (Adults Only)
DESCRIPTION:
URL:https://jesmondpool.online/event/chill-out-session-adults-only-16/2026-05-20/
LOCATION:Jesmond Pool & Gym\, St Georges Terrace\, Jesmond\, Newcastle upon Tyne\, NE2 2DL\, United Kingdom
CATEGORIES:Pool Timetable
ORGANIZER;CN="Jesmond Pool":MAILTO:info@jesmondpool.online
END:VEVENT
BEGIN:VEVENT
DTSTART;TZID=Europe/London:20260521T200000
DTEND;TZID=Europe/London:20260521T220000
DTSTAMP:20260423T022634
CREATED:20260422T185316Z
LAST-MODIFIED:20260422T185316Z
UID:10026122-1779393600-1779400800@jesmondpool.online
SUMMARY:Chill Out Session (Adults Only)
DESCRIPTION:
URL:https://jesmondpool.online/event/chill-out-session-adults-only-16/2026-05-21/
LOCATION:Jesmond Pool & Gym\, St Georges Terrace\, Jesmond\, Newcastle upon Tyne\, NE2 2DL\, United Kingdom
CATEGORIES:Pool Timetable
ORGANIZER;CN="Jesmond Pool":MAILTO:info@jesmondpool.online
END:VEVENT
BEGIN:VEVENT
DTSTART;TZID=Europe/London:20260522T200000
DTEND;TZID=Europe/London:20260522T220000
DTSTAMP:20260423T022634
CREATED:20260422T185316Z
LAST-MODIFIED:20260422T185316Z
UID:10026123-1779480000-1779487200@jesmondpool.online
SUMMARY:Chill Out Session (Adults Only)
DESCRIPTION:
URL:https://jesmondpool.online/event/chill-out-session-adults-only-16/2026-05-22/
LOCATION:Jesmond Pool & Gym\, St Georges Terrace\, Jesmond\, Newcastle upon Tyne\, NE2 2DL\, United Kingdom
CATEGORIES:Pool Timetable
ORGANIZER;CN="Jesmond Pool":MAILTO:info@jesmondpool.online
END:VEVENT
END:VCALENDAR