BEGIN:VCALENDAR
VERSION:2.0
PRODID:-//Jesmond Pool &amp; Gym - ECPv6.15.17.1//NONSGML v1.0//EN
CALSCALE:GREGORIAN
METHOD:PUBLISH
X-WR-CALNAME:Jesmond Pool &amp; Gym
X-ORIGINAL-URL:https://jesmondpool.online
X-WR-CALDESC:Events for Jesmond Pool &amp; Gym
REFRESH-INTERVAL;VALUE=DURATION:PT1H
X-Robots-Tag:noindex
X-PUBLISHED-TTL:PT1H
BEGIN:VTIMEZONE
TZID:Europe/London
BEGIN:DAYLIGHT
TZOFFSETFROM:+0000
TZOFFSETTO:+0100
TZNAME:BST
DTSTART:20250330T010000
END:DAYLIGHT
BEGIN:STANDARD
TZOFFSETFROM:+0100
TZOFFSETTO:+0000
TZNAME:GMT
DTSTART:20251026T010000
END:STANDARD
BEGIN:DAYLIGHT
TZOFFSETFROM:+0000
TZOFFSETTO:+0100
TZNAME:BST
DTSTART:20260329T010000
END:DAYLIGHT
BEGIN:STANDARD
TZOFFSETFROM:+0100
TZOFFSETTO:+0000
TZNAME:GMT
DTSTART:20261025T010000
END:STANDARD
BEGIN:DAYLIGHT
TZOFFSETFROM:+0000
TZOFFSETTO:+0100
TZNAME:BST
DTSTART:20270328T010000
END:DAYLIGHT
BEGIN:STANDARD
TZOFFSETFROM:+0100
TZOFFSETTO:+0000
TZNAME:GMT
DTSTART:20271031T010000
END:STANDARD
END:VTIMEZONE
BEGIN:VEVENT
DTSTART;TZID=Europe/London:20260427T200000
DTEND;TZID=Europe/London:20260427T220000
DTSTAMP:20260423T111139
CREATED:20260422T185316Z
LAST-MODIFIED:20260422T185316Z
UID:10026104-1777320000-1777327200@jesmondpool.online
SUMMARY:Chill Out Session (Adults Only)
DESCRIPTION:
URL:https://jesmondpool.online/event/chill-out-session-adults-only-16/2026-04-27/
LOCATION:Jesmond Pool & Gym\, St Georges Terrace\, Jesmond\, Newcastle upon Tyne\, NE2 2DL\, United Kingdom
CATEGORIES:Pool Timetable
ORGANIZER;CN="Jesmond Pool":MAILTO:info@jesmondpool.online
END:VEVENT
BEGIN:VEVENT
DTSTART;TZID=Europe/London:20260428T070000
DTEND;TZID=Europe/London:20260428T093000
DTSTAMP:20260423T111139
CREATED:20260423T070050Z
LAST-MODIFIED:20260423T070050Z
UID:10026144-1777359600-1777368600@jesmondpool.online
SUMMARY:General Swim (Sauna and Steam Closed)
DESCRIPTION:
URL:https://jesmondpool.online/event/general-swim-sauna-and-steam-closed-30/2026-04-28/
LOCATION:Jesmond Pool & Gym\, St Georges Terrace\, Jesmond\, Newcastle upon Tyne\, NE2 2DL\, United Kingdom
CATEGORIES:Pool Timetable
ORGANIZER;CN="Jesmond Pool":MAILTO:info@jesmondpool.online
END:VEVENT
BEGIN:VEVENT
DTSTART;TZID=Europe/London:20260428T093000
DTEND;TZID=Europe/London:20260428T120000
DTSTAMP:20260423T111139
CREATED:20260423T070402Z
LAST-MODIFIED:20260423T070402Z
UID:10026168-1777368600-1777377600@jesmondpool.online
SUMMARY:General Swim (Sauna and Steam Open) (Aquafit in the shallow end 10am to 10.45am)
DESCRIPTION:
URL:https://jesmondpool.online/event/general-swim-sauna-and-steam-open-aquafit-in-the-shallow-end-10am-to-10-45am-5/2026-04-28/
LOCATION:Jesmond Pool & Gym\, St Georges Terrace\, Jesmond\, Newcastle upon Tyne\, NE2 2DL\, United Kingdom
CATEGORIES:Pool Timetable
ORGANIZER;CN="Jesmond Pool":MAILTO:info@jesmondpool.online
END:VEVENT
BEGIN:VEVENT
DTSTART;TZID=Europe/London:20260428T120000
DTEND;TZID=Europe/London:20260428T130000
DTSTAMP:20260423T111139
CREATED:20260422T185233Z
LAST-MODIFIED:20260422T185233Z
UID:10026085-1777377600-1777381200@jesmondpool.online
SUMMARY:Adults Swim (Sauna and Steam Open)
DESCRIPTION:
URL:https://jesmondpool.online/event/adults-swim-sauna-and-steam-open-4/2026-04-28/
LOCATION:Jesmond Pool & Gym\, St Georges Terrace\, Jesmond\, Newcastle upon Tyne\, NE2 2DL\, United Kingdom
CATEGORIES:Pool Timetable
ORGANIZER;CN="Jesmond Pool":MAILTO:info@jesmondpool.online
END:VEVENT
BEGIN:VEVENT
DTSTART;TZID=Europe/London:20260428T190000
DTEND;TZID=Europe/London:20260428T200000
DTSTAMP:20260423T111139
CREATED:20260422T185410Z
LAST-MODIFIED:20260422T185410Z
UID:10026124-1777402800-1777406400@jesmondpool.online
SUMMARY:General Swim (Sauna and Steam Open)
DESCRIPTION:
URL:https://jesmondpool.online/event/general-swim-sauna-and-steam-open-43/2026-04-28/
LOCATION:Jesmond Pool & Gym\, St Georges Terrace\, Jesmond\, Newcastle upon Tyne\, NE2 2DL\, United Kingdom
CATEGORIES:Pool Timetable
ORGANIZER;CN="Jesmond Pool":MAILTO:info@jesmondpool.online
END:VEVENT
BEGIN:VEVENT
DTSTART;TZID=Europe/London:20260428T200000
DTEND;TZID=Europe/London:20260428T220000
DTSTAMP:20260423T111139
CREATED:20260422T185316Z
LAST-MODIFIED:20260422T185316Z
UID:10026105-1777406400-1777413600@jesmondpool.online
SUMMARY:Chill Out Session (Adults Only)
DESCRIPTION:
URL:https://jesmondpool.online/event/chill-out-session-adults-only-16/2026-04-28/
LOCATION:Jesmond Pool & Gym\, St Georges Terrace\, Jesmond\, Newcastle upon Tyne\, NE2 2DL\, United Kingdom
CATEGORIES:Pool Timetable
ORGANIZER;CN="Jesmond Pool":MAILTO:info@jesmondpool.online
END:VEVENT
BEGIN:VEVENT
DTSTART;TZID=Europe/London:20260429T070000
DTEND;TZID=Europe/London:20260429T093000
DTSTAMP:20260423T111139
CREATED:20260423T070050Z
LAST-MODIFIED:20260423T070050Z
UID:10026145-1777446000-1777455000@jesmondpool.online
SUMMARY:General Swim (Sauna and Steam Closed)
DESCRIPTION:
URL:https://jesmondpool.online/event/general-swim-sauna-and-steam-closed-30/2026-04-29/
LOCATION:Jesmond Pool & Gym\, St Georges Terrace\, Jesmond\, Newcastle upon Tyne\, NE2 2DL\, United Kingdom
CATEGORIES:Pool Timetable
ORGANIZER;CN="Jesmond Pool":MAILTO:info@jesmondpool.online
END:VEVENT
BEGIN:VEVENT
DTSTART;TZID=Europe/London:20260429T093000
DTEND;TZID=Europe/London:20260429T120000
DTSTAMP:20260423T111139
CREATED:20260423T070500Z
LAST-MODIFIED:20260423T070500Z
UID:10026176-1777455000-1777464000@jesmondpool.online
SUMMARY:General Swim (Sauna and Steam Open) (Swimming Lessons in the shallow end 11am to 12pm)(10am to 10.45am Deep Aquafit)
DESCRIPTION:
URL:https://jesmondpool.online/event/general-swim-sauna-and-steam-open-swimming-lessons-in-the-shallow-end-11am-to-12pm10am-to-10-45am-deep-aquafit-2/2026-04-29/
LOCATION:Jesmond Pool & Gym\, St Georges Terrace\, Jesmond\, Newcastle upon Tyne\, NE2 2DL\, United Kingdom
CATEGORIES:Pool Timetable
ORGANIZER;CN="Jesmond Pool":MAILTO:info@jesmondpool.online
END:VEVENT
BEGIN:VEVENT
DTSTART;TZID=Europe/London:20260429T120000
DTEND;TZID=Europe/London:20260429T130000
DTSTAMP:20260423T111139
CREATED:20260422T185233Z
LAST-MODIFIED:20260422T185233Z
UID:10026086-1777464000-1777467600@jesmondpool.online
SUMMARY:Adults Swim (Sauna and Steam Open)
DESCRIPTION:
URL:https://jesmondpool.online/event/adults-swim-sauna-and-steam-open-4/2026-04-29/
LOCATION:Jesmond Pool & Gym\, St Georges Terrace\, Jesmond\, Newcastle upon Tyne\, NE2 2DL\, United Kingdom
CATEGORIES:Pool Timetable
ORGANIZER;CN="Jesmond Pool":MAILTO:info@jesmondpool.online
END:VEVENT
BEGIN:VEVENT
DTSTART;TZID=Europe/London:20260429T200000
DTEND;TZID=Europe/London:20260429T220000
DTSTAMP:20260423T111139
CREATED:20260422T185316Z
LAST-MODIFIED:20260422T185316Z
UID:10026106-1777492800-1777500000@jesmondpool.online
SUMMARY:Chill Out Session (Adults Only)
DESCRIPTION:
URL:https://jesmondpool.online/event/chill-out-session-adults-only-16/2026-04-29/
LOCATION:Jesmond Pool & Gym\, St Georges Terrace\, Jesmond\, Newcastle upon Tyne\, NE2 2DL\, United Kingdom
CATEGORIES:Pool Timetable
ORGANIZER;CN="Jesmond Pool":MAILTO:info@jesmondpool.online
END:VEVENT
BEGIN:VEVENT
DTSTART;TZID=Europe/London:20260430T070000
DTEND;TZID=Europe/London:20260430T090000
DTSTAMP:20260423T111139
CREATED:20260423T065953Z
LAST-MODIFIED:20260423T065953Z
UID:10026137-1777532400-1777539600@jesmondpool.online
SUMMARY:General Swim (Sauna and Steam Closed)
DESCRIPTION:
URL:https://jesmondpool.online/event/general-swim-sauna-and-steam-closed-29/2026-04-30/
LOCATION:Jesmond Pool & Gym\, St Georges Terrace\, Jesmond\, Newcastle upon Tyne\, NE2 2DL\, United Kingdom
CATEGORIES:Pool Timetable
ORGANIZER;CN="Jesmond Pool":MAILTO:info@jesmondpool.online
END:VEVENT
BEGIN:VEVENT
DTSTART;TZID=Europe/London:20260430T090000
DTEND;TZID=Europe/London:20260430T093000
DTSTAMP:20260423T111139
CREATED:20260423T070143Z
LAST-MODIFIED:20260423T070143Z
UID:10026157-1777539600-1777541400@jesmondpool.online
SUMMARY:Pool Closed
DESCRIPTION:
URL:https://jesmondpool.online/event/pool-closed/2026-04-30/
LOCATION:Jesmond Pool & Gym\, St Georges Terrace\, Jesmond\, Newcastle upon Tyne\, NE2 2DL\, United Kingdom
CATEGORIES:Pool Timetable
ORGANIZER;CN="Jesmond Pool":MAILTO:info@jesmondpool.online
END:VEVENT
BEGIN:VEVENT
DTSTART;TZID=Europe/London:20260430T093000
DTEND;TZID=Europe/London:20260430T120000
DTSTAMP:20260423T111139
CREATED:20260423T070402Z
LAST-MODIFIED:20260423T070402Z
UID:10026169-1777541400-1777550400@jesmondpool.online
SUMMARY:General Swim (Sauna and Steam Open) (Aquafit in the shallow end 10am to 10.45am)
DESCRIPTION:
URL:https://jesmondpool.online/event/general-swim-sauna-and-steam-open-aquafit-in-the-shallow-end-10am-to-10-45am-5/2026-04-30/
LOCATION:Jesmond Pool & Gym\, St Georges Terrace\, Jesmond\, Newcastle upon Tyne\, NE2 2DL\, United Kingdom
CATEGORIES:Pool Timetable
ORGANIZER;CN="Jesmond Pool":MAILTO:info@jesmondpool.online
END:VEVENT
BEGIN:VEVENT
DTSTART;TZID=Europe/London:20260430T120000
DTEND;TZID=Europe/London:20260430T130000
DTSTAMP:20260423T111139
CREATED:20260422T185233Z
LAST-MODIFIED:20260422T185233Z
UID:10026087-1777550400-1777554000@jesmondpool.online
SUMMARY:Adults Swim (Sauna and Steam Open)
DESCRIPTION:
URL:https://jesmondpool.online/event/adults-swim-sauna-and-steam-open-4/2026-04-30/
LOCATION:Jesmond Pool & Gym\, St Georges Terrace\, Jesmond\, Newcastle upon Tyne\, NE2 2DL\, United Kingdom
CATEGORIES:Pool Timetable
ORGANIZER;CN="Jesmond Pool":MAILTO:info@jesmondpool.online
END:VEVENT
BEGIN:VEVENT
DTSTART;TZID=Europe/London:20260430T190000
DTEND;TZID=Europe/London:20260430T200000
DTSTAMP:20260423T111139
CREATED:20260422T185410Z
LAST-MODIFIED:20260422T185410Z
UID:10026125-1777575600-1777579200@jesmondpool.online
SUMMARY:General Swim (Sauna and Steam Open)
DESCRIPTION:
URL:https://jesmondpool.online/event/general-swim-sauna-and-steam-open-43/2026-04-30/
LOCATION:Jesmond Pool & Gym\, St Georges Terrace\, Jesmond\, Newcastle upon Tyne\, NE2 2DL\, United Kingdom
CATEGORIES:Pool Timetable
ORGANIZER;CN="Jesmond Pool":MAILTO:info@jesmondpool.online
END:VEVENT
BEGIN:VEVENT
DTSTART;TZID=Europe/London:20260430T200000
DTEND;TZID=Europe/London:20260430T220000
DTSTAMP:20260423T111139
CREATED:20260422T185316Z
LAST-MODIFIED:20260422T185316Z
UID:10026107-1777579200-1777586400@jesmondpool.online
SUMMARY:Chill Out Session (Adults Only)
DESCRIPTION:
URL:https://jesmondpool.online/event/chill-out-session-adults-only-16/2026-04-30/
LOCATION:Jesmond Pool & Gym\, St Georges Terrace\, Jesmond\, Newcastle upon Tyne\, NE2 2DL\, United Kingdom
CATEGORIES:Pool Timetable
ORGANIZER;CN="Jesmond Pool":MAILTO:info@jesmondpool.online
END:VEVENT
BEGIN:VEVENT
DTSTART;TZID=Europe/London:20260501T070000
DTEND;TZID=Europe/London:20260501T093000
DTSTAMP:20260423T111139
CREATED:20260423T070050Z
LAST-MODIFIED:20260423T070050Z
UID:10026146-1777618800-1777627800@jesmondpool.online
SUMMARY:General Swim (Sauna and Steam Closed)
DESCRIPTION:
URL:https://jesmondpool.online/event/general-swim-sauna-and-steam-closed-30/2026-05-01/
LOCATION:Jesmond Pool & Gym\, St Georges Terrace\, Jesmond\, Newcastle upon Tyne\, NE2 2DL\, United Kingdom
CATEGORIES:Pool Timetable
ORGANIZER;CN="Jesmond Pool":MAILTO:info@jesmondpool.online
END:VEVENT
BEGIN:VEVENT
DTSTART;TZID=Europe/London:20260501T093000
DTEND;TZID=Europe/London:20260501T120000
DTSTAMP:20260423T111139
CREATED:20260423T070556Z
LAST-MODIFIED:20260423T070556Z
UID:10026180-1777627800-1777636800@jesmondpool.online
SUMMARY:General Swim (Sauna and Steam Open)
DESCRIPTION:
URL:https://jesmondpool.online/event/general-swim-sauna-and-steam-open-44/2026-05-01/
LOCATION:Jesmond Pool & Gym\, St Georges Terrace\, Jesmond\, Newcastle upon Tyne\, NE2 2DL\, United Kingdom
CATEGORIES:Pool Timetable
ORGANIZER;CN="Jesmond Pool":MAILTO:info@jesmondpool.online
END:VEVENT
BEGIN:VEVENT
DTSTART;TZID=Europe/London:20260501T120000
DTEND;TZID=Europe/London:20260501T130000
DTSTAMP:20260423T111139
CREATED:20260422T185233Z
LAST-MODIFIED:20260422T185233Z
UID:10026088-1777636800-1777640400@jesmondpool.online
SUMMARY:Adults Swim (Sauna and Steam Open)
DESCRIPTION:
URL:https://jesmondpool.online/event/adults-swim-sauna-and-steam-open-4/2026-05-01/
LOCATION:Jesmond Pool & Gym\, St Georges Terrace\, Jesmond\, Newcastle upon Tyne\, NE2 2DL\, United Kingdom
CATEGORIES:Pool Timetable
ORGANIZER;CN="Jesmond Pool":MAILTO:info@jesmondpool.online
END:VEVENT
BEGIN:VEVENT
DTSTART;TZID=Europe/London:20260501T190000
DTEND;TZID=Europe/London:20260501T200000
DTSTAMP:20260423T111139
CREATED:20260422T185410Z
LAST-MODIFIED:20260422T185410Z
UID:10026126-1777662000-1777665600@jesmondpool.online
SUMMARY:General Swim (Sauna and Steam Open)
DESCRIPTION:
URL:https://jesmondpool.online/event/general-swim-sauna-and-steam-open-43/2026-05-01/
LOCATION:Jesmond Pool & Gym\, St Georges Terrace\, Jesmond\, Newcastle upon Tyne\, NE2 2DL\, United Kingdom
CATEGORIES:Pool Timetable
ORGANIZER;CN="Jesmond Pool":MAILTO:info@jesmondpool.online
END:VEVENT
BEGIN:VEVENT
DTSTART;TZID=Europe/London:20260501T200000
DTEND;TZID=Europe/London:20260501T220000
DTSTAMP:20260423T111139
CREATED:20260422T185316Z
LAST-MODIFIED:20260422T185316Z
UID:10026108-1777665600-1777672800@jesmondpool.online
SUMMARY:Chill Out Session (Adults Only)
DESCRIPTION:
URL:https://jesmondpool.online/event/chill-out-session-adults-only-16/2026-05-01/
LOCATION:Jesmond Pool & Gym\, St Georges Terrace\, Jesmond\, Newcastle upon Tyne\, NE2 2DL\, United Kingdom
CATEGORIES:Pool Timetable
ORGANIZER;CN="Jesmond Pool":MAILTO:info@jesmondpool.online
END:VEVENT
BEGIN:VEVENT
DTSTART;TZID=Europe/London:20260504T070000
DTEND;TZID=Europe/London:20260504T090000
DTSTAMP:20260423T111139
CREATED:20260423T065953Z
LAST-MODIFIED:20260423T065953Z
UID:10026138-1777878000-1777885200@jesmondpool.online
SUMMARY:General Swim (Sauna and Steam Closed)
DESCRIPTION:
URL:https://jesmondpool.online/event/general-swim-sauna-and-steam-closed-29/2026-05-04/
LOCATION:Jesmond Pool & Gym\, St Georges Terrace\, Jesmond\, Newcastle upon Tyne\, NE2 2DL\, United Kingdom
CATEGORIES:Pool Timetable
ORGANIZER;CN="Jesmond Pool":MAILTO:info@jesmondpool.online
END:VEVENT
BEGIN:VEVENT
DTSTART;TZID=Europe/London:20260504T090000
DTEND;TZID=Europe/London:20260504T093000
DTSTAMP:20260423T111139
CREATED:20260423T070143Z
LAST-MODIFIED:20260423T070143Z
UID:10026158-1777885200-1777887000@jesmondpool.online
SUMMARY:Pool Closed
DESCRIPTION:
URL:https://jesmondpool.online/event/pool-closed/2026-05-04/
LOCATION:Jesmond Pool & Gym\, St Georges Terrace\, Jesmond\, Newcastle upon Tyne\, NE2 2DL\, United Kingdom
CATEGORIES:Pool Timetable
ORGANIZER;CN="Jesmond Pool":MAILTO:info@jesmondpool.online
END:VEVENT
BEGIN:VEVENT
DTSTART;TZID=Europe/London:20260504T093000
DTEND;TZID=Europe/London:20260504T120000
DTSTAMP:20260423T111139
CREATED:20260423T070312Z
LAST-MODIFIED:20260423T070312Z
UID:10026165-1777887000-1777896000@jesmondpool.online
SUMMARY:General Swim (Sauna and Steam Open) (10am to 10.45am Aquafit in the Deep end)
DESCRIPTION:
URL:https://jesmondpool.online/event/general-swim-sauna-and-steam-open-10am-to-10-45am-aquafit-in-the-deep-end/2026-05-04/
LOCATION:Newcastle upon Tyne
CATEGORIES:Pool Timetable
ORGANIZER;CN="Jesmond Pool":MAILTO:info@jesmondpool.online
END:VEVENT
BEGIN:VEVENT
DTSTART;TZID=Europe/London:20260504T120000
DTEND;TZID=Europe/London:20260504T130000
DTSTAMP:20260423T111139
CREATED:20260422T185233Z
LAST-MODIFIED:20260422T185233Z
UID:10026089-1777896000-1777899600@jesmondpool.online
SUMMARY:Adults Swim (Sauna and Steam Open)
DESCRIPTION:
URL:https://jesmondpool.online/event/adults-swim-sauna-and-steam-open-4/2026-05-04/
LOCATION:Jesmond Pool & Gym\, St Georges Terrace\, Jesmond\, Newcastle upon Tyne\, NE2 2DL\, United Kingdom
CATEGORIES:Pool Timetable
ORGANIZER;CN="Jesmond Pool":MAILTO:info@jesmondpool.online
END:VEVENT
BEGIN:VEVENT
DTSTART;TZID=Europe/London:20260504T200000
DTEND;TZID=Europe/London:20260504T220000
DTSTAMP:20260423T111139
CREATED:20260422T185316Z
LAST-MODIFIED:20260422T185316Z
UID:10026109-1777924800-1777932000@jesmondpool.online
SUMMARY:Chill Out Session (Adults Only)
DESCRIPTION:
URL:https://jesmondpool.online/event/chill-out-session-adults-only-16/2026-05-04/
LOCATION:Jesmond Pool & Gym\, St Georges Terrace\, Jesmond\, Newcastle upon Tyne\, NE2 2DL\, United Kingdom
CATEGORIES:Pool Timetable
ORGANIZER;CN="Jesmond Pool":MAILTO:info@jesmondpool.online
END:VEVENT
BEGIN:VEVENT
DTSTART;TZID=Europe/London:20260505T070000
DTEND;TZID=Europe/London:20260505T093000
DTSTAMP:20260423T111139
CREATED:20260423T070050Z
LAST-MODIFIED:20260423T070050Z
UID:10026147-1777964400-1777973400@jesmondpool.online
SUMMARY:General Swim (Sauna and Steam Closed)
DESCRIPTION:
URL:https://jesmondpool.online/event/general-swim-sauna-and-steam-closed-30/2026-05-05/
LOCATION:Jesmond Pool & Gym\, St Georges Terrace\, Jesmond\, Newcastle upon Tyne\, NE2 2DL\, United Kingdom
CATEGORIES:Pool Timetable
ORGANIZER;CN="Jesmond Pool":MAILTO:info@jesmondpool.online
END:VEVENT
BEGIN:VEVENT
DTSTART;TZID=Europe/London:20260505T093000
DTEND;TZID=Europe/London:20260505T120000
DTSTAMP:20260423T111139
CREATED:20260423T070402Z
LAST-MODIFIED:20260423T070402Z
UID:10026170-1777973400-1777982400@jesmondpool.online
SUMMARY:General Swim (Sauna and Steam Open) (Aquafit in the shallow end 10am to 10.45am)
DESCRIPTION:
URL:https://jesmondpool.online/event/general-swim-sauna-and-steam-open-aquafit-in-the-shallow-end-10am-to-10-45am-5/2026-05-05/
LOCATION:Jesmond Pool & Gym\, St Georges Terrace\, Jesmond\, Newcastle upon Tyne\, NE2 2DL\, United Kingdom
CATEGORIES:Pool Timetable
ORGANIZER;CN="Jesmond Pool":MAILTO:info@jesmondpool.online
END:VEVENT
BEGIN:VEVENT
DTSTART;TZID=Europe/London:20260505T120000
DTEND;TZID=Europe/London:20260505T130000
DTSTAMP:20260423T111139
CREATED:20260422T185233Z
LAST-MODIFIED:20260422T185233Z
UID:10026090-1777982400-1777986000@jesmondpool.online
SUMMARY:Adults Swim (Sauna and Steam Open)
DESCRIPTION:
URL:https://jesmondpool.online/event/adults-swim-sauna-and-steam-open-4/2026-05-05/
LOCATION:Jesmond Pool & Gym\, St Georges Terrace\, Jesmond\, Newcastle upon Tyne\, NE2 2DL\, United Kingdom
CATEGORIES:Pool Timetable
ORGANIZER;CN="Jesmond Pool":MAILTO:info@jesmondpool.online
END:VEVENT
BEGIN:VEVENT
DTSTART;TZID=Europe/London:20260505T190000
DTEND;TZID=Europe/London:20260505T200000
DTSTAMP:20260423T111139
CREATED:20260422T185410Z
LAST-MODIFIED:20260422T185410Z
UID:10026127-1778007600-1778011200@jesmondpool.online
SUMMARY:General Swim (Sauna and Steam Open)
DESCRIPTION:
URL:https://jesmondpool.online/event/general-swim-sauna-and-steam-open-43/2026-05-05/
LOCATION:Jesmond Pool & Gym\, St Georges Terrace\, Jesmond\, Newcastle upon Tyne\, NE2 2DL\, United Kingdom
CATEGORIES:Pool Timetable
ORGANIZER;CN="Jesmond Pool":MAILTO:info@jesmondpool.online
END:VEVENT
END:VCALENDAR