BEGIN:VCALENDAR
VERSION:2.0
PRODID:-//Jesmond Pool &amp; Gym - ECPv6.15.17.1//NONSGML v1.0//EN
CALSCALE:GREGORIAN
METHOD:PUBLISH
X-ORIGINAL-URL:https://jesmondpool.online
X-WR-CALDESC:Events for Jesmond Pool &amp; Gym
REFRESH-INTERVAL;VALUE=DURATION:PT1H
X-Robots-Tag:noindex
X-PUBLISHED-TTL:PT1H
BEGIN:VTIMEZONE
TZID:Europe/London
BEGIN:DAYLIGHT
TZOFFSETFROM:+0000
TZOFFSETTO:+0100
TZNAME:BST
DTSTART:20250330T010000
END:DAYLIGHT
BEGIN:STANDARD
TZOFFSETFROM:+0100
TZOFFSETTO:+0000
TZNAME:GMT
DTSTART:20251026T010000
END:STANDARD
BEGIN:DAYLIGHT
TZOFFSETFROM:+0000
TZOFFSETTO:+0100
TZNAME:BST
DTSTART:20260329T010000
END:DAYLIGHT
BEGIN:STANDARD
TZOFFSETFROM:+0100
TZOFFSETTO:+0000
TZNAME:GMT
DTSTART:20261025T010000
END:STANDARD
BEGIN:DAYLIGHT
TZOFFSETFROM:+0000
TZOFFSETTO:+0100
TZNAME:BST
DTSTART:20270328T010000
END:DAYLIGHT
BEGIN:STANDARD
TZOFFSETFROM:+0100
TZOFFSETTO:+0000
TZNAME:GMT
DTSTART:20271031T010000
END:STANDARD
END:VTIMEZONE
BEGIN:VEVENT
DTSTART;TZID=Europe/London:20260504T070000
DTEND;TZID=Europe/London:20260504T090000
DTSTAMP:20260423T155539
CREATED:20260423T065953Z
LAST-MODIFIED:20260423T065953Z
UID:10026138-1777878000-1777885200@jesmondpool.online
SUMMARY:General Swim (Sauna and Steam Closed)
DESCRIPTION:
URL:https://jesmondpool.online/event/general-swim-sauna-and-steam-closed-29/2026-05-04/
LOCATION:Jesmond Pool & Gym\, St Georges Terrace\, Jesmond\, Newcastle upon Tyne\, NE2 2DL\, United Kingdom
CATEGORIES:Pool Timetable
ORGANIZER;CN="Jesmond Pool":MAILTO:info@jesmondpool.online
END:VEVENT
BEGIN:VEVENT
DTSTART;TZID=Europe/London:20260504T090000
DTEND;TZID=Europe/London:20260504T093000
DTSTAMP:20260423T155539
CREATED:20260423T070143Z
LAST-MODIFIED:20260423T070143Z
UID:10026158-1777885200-1777887000@jesmondpool.online
SUMMARY:Pool Closed
DESCRIPTION:
URL:https://jesmondpool.online/event/pool-closed/2026-05-04/
LOCATION:Jesmond Pool & Gym\, St Georges Terrace\, Jesmond\, Newcastle upon Tyne\, NE2 2DL\, United Kingdom
CATEGORIES:Pool Timetable
ORGANIZER;CN="Jesmond Pool":MAILTO:info@jesmondpool.online
END:VEVENT
BEGIN:VEVENT
DTSTART;TZID=Europe/London:20260504T093000
DTEND;TZID=Europe/London:20260504T120000
DTSTAMP:20260423T155539
CREATED:20260423T070312Z
LAST-MODIFIED:20260423T070312Z
UID:10026165-1777887000-1777896000@jesmondpool.online
SUMMARY:General Swim (Sauna and Steam Open) (10am to 10.45am Aquafit in the Deep end)
DESCRIPTION:
URL:https://jesmondpool.online/event/general-swim-sauna-and-steam-open-10am-to-10-45am-aquafit-in-the-deep-end/2026-05-04/
LOCATION:Newcastle upon Tyne
CATEGORIES:Pool Timetable
ORGANIZER;CN="Jesmond Pool":MAILTO:info@jesmondpool.online
END:VEVENT
BEGIN:VEVENT
DTSTART;TZID=Europe/London:20260504T120000
DTEND;TZID=Europe/London:20260504T130000
DTSTAMP:20260423T155539
CREATED:20260422T185233Z
LAST-MODIFIED:20260422T185233Z
UID:10026089-1777896000-1777899600@jesmondpool.online
SUMMARY:Adults Swim (Sauna and Steam Open)
DESCRIPTION:
URL:https://jesmondpool.online/event/adults-swim-sauna-and-steam-open-4/2026-05-04/
LOCATION:Jesmond Pool & Gym\, St Georges Terrace\, Jesmond\, Newcastle upon Tyne\, NE2 2DL\, United Kingdom
CATEGORIES:Pool Timetable
ORGANIZER;CN="Jesmond Pool":MAILTO:info@jesmondpool.online
END:VEVENT
BEGIN:VEVENT
DTSTART;TZID=Europe/London:20260504T130000
DTEND;TZID=Europe/London:20260504T160000
DTSTAMP:20260423T155539
CREATED:20260423T122313Z
LAST-MODIFIED:20260423T122313Z
UID:10026205-1777899600-1777910400@jesmondpool.online
SUMMARY:General Swim (Sauna and Steam Open) (1 lane only between 3pm and 4pm for private booking)
DESCRIPTION:
URL:https://jesmondpool.online/event/general-swim-sauna-and-steam-open-1-lane-only-between-3pm-and-4pm-for-private-booking-4/2026-05-04/
LOCATION:Jesmond Pool & Gym\, St Georges Terrace\, Jesmond\, Newcastle upon Tyne\, NE2 2DL\, United Kingdom
CATEGORIES:Pool Timetable
ORGANIZER;CN="Jesmond Pool":MAILTO:info@jesmondpool.online
END:VEVENT
BEGIN:VEVENT
DTSTART;TZID=Europe/London:20260504T160000
DTEND;TZID=Europe/London:20260504T190000
DTSTAMP:20260423T155539
CREATED:20260423T122053Z
LAST-MODIFIED:20260423T122053Z
UID:10026188-1777910400-1777921200@jesmondpool.online
SUMMARY:Pool Closed For Swimming Lessons
DESCRIPTION:
URL:https://jesmondpool.online/event/pool-closed-for-swimming-lessons-24/2026-05-04/
LOCATION:Jesmond Pool & Gym\, St Georges Terrace\, Jesmond\, Newcastle upon Tyne\, NE2 2DL\, United Kingdom
CATEGORIES:Pool Timetable
ORGANIZER;CN="Jesmond Pool":MAILTO:info@jesmondpool.online
END:VEVENT
BEGIN:VEVENT
DTSTART;TZID=Europe/London:20260504T200000
DTEND;TZID=Europe/London:20260504T220000
DTSTAMP:20260423T155539
CREATED:20260422T185316Z
LAST-MODIFIED:20260422T185316Z
UID:10026109-1777924800-1777932000@jesmondpool.online
SUMMARY:Chill Out Session (Adults Only)
DESCRIPTION:
URL:https://jesmondpool.online/event/chill-out-session-adults-only-16/2026-05-04/
LOCATION:Jesmond Pool & Gym\, St Georges Terrace\, Jesmond\, Newcastle upon Tyne\, NE2 2DL\, United Kingdom
CATEGORIES:Pool Timetable
ORGANIZER;CN="Jesmond Pool":MAILTO:info@jesmondpool.online
END:VEVENT
BEGIN:VEVENT
DTSTART;TZID=Europe/London:20260505T070000
DTEND;TZID=Europe/London:20260505T093000
DTSTAMP:20260423T155539
CREATED:20260423T070050Z
LAST-MODIFIED:20260423T070050Z
UID:10026147-1777964400-1777973400@jesmondpool.online
SUMMARY:General Swim (Sauna and Steam Closed)
DESCRIPTION:
URL:https://jesmondpool.online/event/general-swim-sauna-and-steam-closed-30/2026-05-05/
LOCATION:Jesmond Pool & Gym\, St Georges Terrace\, Jesmond\, Newcastle upon Tyne\, NE2 2DL\, United Kingdom
CATEGORIES:Pool Timetable
ORGANIZER;CN="Jesmond Pool":MAILTO:info@jesmondpool.online
END:VEVENT
BEGIN:VEVENT
DTSTART;TZID=Europe/London:20260505T093000
DTEND;TZID=Europe/London:20260505T120000
DTSTAMP:20260423T155539
CREATED:20260423T070402Z
LAST-MODIFIED:20260423T070402Z
UID:10026170-1777973400-1777982400@jesmondpool.online
SUMMARY:General Swim (Sauna and Steam Open) (Aquafit in the shallow end 10am to 10.45am)
DESCRIPTION:
URL:https://jesmondpool.online/event/general-swim-sauna-and-steam-open-aquafit-in-the-shallow-end-10am-to-10-45am-5/2026-05-05/
LOCATION:Jesmond Pool & Gym\, St Georges Terrace\, Jesmond\, Newcastle upon Tyne\, NE2 2DL\, United Kingdom
CATEGORIES:Pool Timetable
ORGANIZER;CN="Jesmond Pool":MAILTO:info@jesmondpool.online
END:VEVENT
BEGIN:VEVENT
DTSTART;TZID=Europe/London:20260505T120000
DTEND;TZID=Europe/London:20260505T130000
DTSTAMP:20260423T155539
CREATED:20260422T185233Z
LAST-MODIFIED:20260422T185233Z
UID:10026090-1777982400-1777986000@jesmondpool.online
SUMMARY:Adults Swim (Sauna and Steam Open)
DESCRIPTION:
URL:https://jesmondpool.online/event/adults-swim-sauna-and-steam-open-4/2026-05-05/
LOCATION:Jesmond Pool & Gym\, St Georges Terrace\, Jesmond\, Newcastle upon Tyne\, NE2 2DL\, United Kingdom
CATEGORIES:Pool Timetable
ORGANIZER;CN="Jesmond Pool":MAILTO:info@jesmondpool.online
END:VEVENT
BEGIN:VEVENT
DTSTART;TZID=Europe/London:20260505T130000
DTEND;TZID=Europe/London:20260505T140000
DTSTAMP:20260423T155539
CREATED:20260423T122403Z
LAST-MODIFIED:20260423T122403Z
UID:10026209-1777986000-1777989600@jesmondpool.online
SUMMARY:General Swim (Sauna and Steam Open)
DESCRIPTION:
URL:https://jesmondpool.online/event/general-swim-sauna-and-steam-open-45/2026-05-05/
LOCATION:Jesmond Pool & Gym\, St Georges Terrace\, Jesmond\, Newcastle upon Tyne\, NE2 2DL\, United Kingdom
CATEGORIES:Pool Timetable
ORGANIZER;CN="Jesmond Pool":MAILTO:info@jesmondpool.online
END:VEVENT
BEGIN:VEVENT
DTSTART;TZID=Europe/London:20260505T140000
DTEND;TZID=Europe/London:20260505T150000
DTSTAMP:20260423T155539
CREATED:20260423T122452Z
LAST-MODIFIED:20260423T122452Z
UID:10026213-1777989600-1777993200@jesmondpool.online
SUMMARY:Pool Closed for Schools 2pm to 3pm
DESCRIPTION:
URL:https://jesmondpool.online/event/pool-closed-for-schools-2pm-to-3pm-4/2026-05-05/
LOCATION:Jesmond Pool & Gym\, St Georges Terrace\, Jesmond\, Newcastle upon Tyne\, NE2 2DL\, United Kingdom
CATEGORIES:Pool Timetable
ORGANIZER;CN="Jesmond Pool":MAILTO:info@jesmondpool.online
END:VEVENT
BEGIN:VEVENT
DTSTART;TZID=Europe/London:20260505T160000
DTEND;TZID=Europe/London:20260505T190000
DTSTAMP:20260423T155539
CREATED:20260423T122053Z
LAST-MODIFIED:20260423T122053Z
UID:10026189-1777996800-1778007600@jesmondpool.online
SUMMARY:Pool Closed For Swimming Lessons
DESCRIPTION:
URL:https://jesmondpool.online/event/pool-closed-for-swimming-lessons-24/2026-05-05/
LOCATION:Jesmond Pool & Gym\, St Georges Terrace\, Jesmond\, Newcastle upon Tyne\, NE2 2DL\, United Kingdom
CATEGORIES:Pool Timetable
ORGANIZER;CN="Jesmond Pool":MAILTO:info@jesmondpool.online
END:VEVENT
BEGIN:VEVENT
DTSTART;TZID=Europe/London:20260505T190000
DTEND;TZID=Europe/London:20260505T200000
DTSTAMP:20260423T155539
CREATED:20260422T185410Z
LAST-MODIFIED:20260422T185410Z
UID:10026127-1778007600-1778011200@jesmondpool.online
SUMMARY:General Swim (Sauna and Steam Open)
DESCRIPTION:
URL:https://jesmondpool.online/event/general-swim-sauna-and-steam-open-43/2026-05-05/
LOCATION:Jesmond Pool & Gym\, St Georges Terrace\, Jesmond\, Newcastle upon Tyne\, NE2 2DL\, United Kingdom
CATEGORIES:Pool Timetable
ORGANIZER;CN="Jesmond Pool":MAILTO:info@jesmondpool.online
END:VEVENT
BEGIN:VEVENT
DTSTART;TZID=Europe/London:20260505T200000
DTEND;TZID=Europe/London:20260505T220000
DTSTAMP:20260423T155539
CREATED:20260422T185316Z
LAST-MODIFIED:20260422T185316Z
UID:10026110-1778011200-1778018400@jesmondpool.online
SUMMARY:Chill Out Session (Adults Only)
DESCRIPTION:
URL:https://jesmondpool.online/event/chill-out-session-adults-only-16/2026-05-05/
LOCATION:Jesmond Pool & Gym\, St Georges Terrace\, Jesmond\, Newcastle upon Tyne\, NE2 2DL\, United Kingdom
CATEGORIES:Pool Timetable
ORGANIZER;CN="Jesmond Pool":MAILTO:info@jesmondpool.online
END:VEVENT
BEGIN:VEVENT
DTSTART;TZID=Europe/London:20260506T070000
DTEND;TZID=Europe/London:20260506T093000
DTSTAMP:20260423T155539
CREATED:20260423T070050Z
LAST-MODIFIED:20260423T070050Z
UID:10026148-1778050800-1778059800@jesmondpool.online
SUMMARY:General Swim (Sauna and Steam Closed)
DESCRIPTION:
URL:https://jesmondpool.online/event/general-swim-sauna-and-steam-closed-30/2026-05-06/
LOCATION:Jesmond Pool & Gym\, St Georges Terrace\, Jesmond\, Newcastle upon Tyne\, NE2 2DL\, United Kingdom
CATEGORIES:Pool Timetable
ORGANIZER;CN="Jesmond Pool":MAILTO:info@jesmondpool.online
END:VEVENT
BEGIN:VEVENT
DTSTART;TZID=Europe/London:20260506T093000
DTEND;TZID=Europe/London:20260506T120000
DTSTAMP:20260423T155539
CREATED:20260423T070500Z
LAST-MODIFIED:20260423T070500Z
UID:10026177-1778059800-1778068800@jesmondpool.online
SUMMARY:General Swim (Sauna and Steam Open) (Swimming Lessons in the shallow end 11am to 12pm)(10am to 10.45am Deep Aquafit)
DESCRIPTION:
URL:https://jesmondpool.online/event/general-swim-sauna-and-steam-open-swimming-lessons-in-the-shallow-end-11am-to-12pm10am-to-10-45am-deep-aquafit-2/2026-05-06/
LOCATION:Jesmond Pool & Gym\, St Georges Terrace\, Jesmond\, Newcastle upon Tyne\, NE2 2DL\, United Kingdom
CATEGORIES:Pool Timetable
ORGANIZER;CN="Jesmond Pool":MAILTO:info@jesmondpool.online
END:VEVENT
BEGIN:VEVENT
DTSTART;TZID=Europe/London:20260506T120000
DTEND;TZID=Europe/London:20260506T130000
DTSTAMP:20260423T155539
CREATED:20260422T185233Z
LAST-MODIFIED:20260422T185233Z
UID:10026091-1778068800-1778072400@jesmondpool.online
SUMMARY:Adults Swim (Sauna and Steam Open)
DESCRIPTION:
URL:https://jesmondpool.online/event/adults-swim-sauna-and-steam-open-4/2026-05-06/
LOCATION:Jesmond Pool & Gym\, St Georges Terrace\, Jesmond\, Newcastle upon Tyne\, NE2 2DL\, United Kingdom
CATEGORIES:Pool Timetable
ORGANIZER;CN="Jesmond Pool":MAILTO:info@jesmondpool.online
END:VEVENT
BEGIN:VEVENT
DTSTART;TZID=Europe/London:20260506T130000
DTEND;TZID=Europe/London:20260506T160000
DTSTAMP:20260423T155539
CREATED:20260423T122626Z
LAST-MODIFIED:20260423T122626Z
UID:10026218-1778072400-1778083200@jesmondpool.online
SUMMARY:General Swim (Sauna and Steam Open)
DESCRIPTION:
URL:https://jesmondpool.online/event/general-swim-sauna-and-steam-open-47/2026-05-06/
LOCATION:Jesmond Pool & Gym\, St Georges Terrace\, Jesmond\, Newcastle upon Tyne\, NE2 2DL\, United Kingdom
CATEGORIES:Pool Timetable
ORGANIZER;CN="Jesmond Pool":MAILTO:info@jesmondpool.online
END:VEVENT
BEGIN:VEVENT
DTSTART;TZID=Europe/London:20260506T160000
DTEND;TZID=Europe/London:20260506T200000
DTSTAMP:20260423T155539
CREATED:20260423T122206Z
LAST-MODIFIED:20260423T122206Z
UID:10026201-1778083200-1778097600@jesmondpool.online
SUMMARY:Pool Closed for Swimming Lessons
DESCRIPTION:
URL:https://jesmondpool.online/event/pool-closed-for-swimming-lessons-25/2026-05-06/
LOCATION:Jesmond Pool & Gym\, St Georges Terrace\, Jesmond\, Newcastle upon Tyne\, NE2 2DL\, United Kingdom
CATEGORIES:Pool Timetable
ORGANIZER;CN="Jesmond Pool":MAILTO:info@jesmondpool.online
END:VEVENT
BEGIN:VEVENT
DTSTART;TZID=Europe/London:20260506T200000
DTEND;TZID=Europe/London:20260506T220000
DTSTAMP:20260423T155539
CREATED:20260422T185316Z
LAST-MODIFIED:20260422T185316Z
UID:10026111-1778097600-1778104800@jesmondpool.online
SUMMARY:Chill Out Session (Adults Only)
DESCRIPTION:
URL:https://jesmondpool.online/event/chill-out-session-adults-only-16/2026-05-06/
LOCATION:Jesmond Pool & Gym\, St Georges Terrace\, Jesmond\, Newcastle upon Tyne\, NE2 2DL\, United Kingdom
CATEGORIES:Pool Timetable
ORGANIZER;CN="Jesmond Pool":MAILTO:info@jesmondpool.online
END:VEVENT
BEGIN:VEVENT
DTSTART;TZID=Europe/London:20260507T070000
DTEND;TZID=Europe/London:20260507T090000
DTSTAMP:20260423T155539
CREATED:20260423T065953Z
LAST-MODIFIED:20260423T065953Z
UID:10026139-1778137200-1778144400@jesmondpool.online
SUMMARY:General Swim (Sauna and Steam Closed)
DESCRIPTION:
URL:https://jesmondpool.online/event/general-swim-sauna-and-steam-closed-29/2026-05-07/
LOCATION:Jesmond Pool & Gym\, St Georges Terrace\, Jesmond\, Newcastle upon Tyne\, NE2 2DL\, United Kingdom
CATEGORIES:Pool Timetable
ORGANIZER;CN="Jesmond Pool":MAILTO:info@jesmondpool.online
END:VEVENT
BEGIN:VEVENT
DTSTART;TZID=Europe/London:20260507T090000
DTEND;TZID=Europe/London:20260507T093000
DTSTAMP:20260423T155539
CREATED:20260423T070143Z
LAST-MODIFIED:20260423T070143Z
UID:10026159-1778144400-1778146200@jesmondpool.online
SUMMARY:Pool Closed
DESCRIPTION:
URL:https://jesmondpool.online/event/pool-closed/2026-05-07/
LOCATION:Jesmond Pool & Gym\, St Georges Terrace\, Jesmond\, Newcastle upon Tyne\, NE2 2DL\, United Kingdom
CATEGORIES:Pool Timetable
ORGANIZER;CN="Jesmond Pool":MAILTO:info@jesmondpool.online
END:VEVENT
BEGIN:VEVENT
DTSTART;TZID=Europe/London:20260507T093000
DTEND;TZID=Europe/London:20260507T120000
DTSTAMP:20260423T155539
CREATED:20260423T070402Z
LAST-MODIFIED:20260423T070402Z
UID:10026171-1778146200-1778155200@jesmondpool.online
SUMMARY:General Swim (Sauna and Steam Open) (Aquafit in the shallow end 10am to 10.45am)
DESCRIPTION:
URL:https://jesmondpool.online/event/general-swim-sauna-and-steam-open-aquafit-in-the-shallow-end-10am-to-10-45am-5/2026-05-07/
LOCATION:Jesmond Pool & Gym\, St Georges Terrace\, Jesmond\, Newcastle upon Tyne\, NE2 2DL\, United Kingdom
CATEGORIES:Pool Timetable
ORGANIZER;CN="Jesmond Pool":MAILTO:info@jesmondpool.online
END:VEVENT
BEGIN:VEVENT
DTSTART;TZID=Europe/London:20260507T120000
DTEND;TZID=Europe/London:20260507T130000
DTSTAMP:20260423T155539
CREATED:20260422T185233Z
LAST-MODIFIED:20260422T185233Z
UID:10026092-1778155200-1778158800@jesmondpool.online
SUMMARY:Adults Swim (Sauna and Steam Open)
DESCRIPTION:
URL:https://jesmondpool.online/event/adults-swim-sauna-and-steam-open-4/2026-05-07/
LOCATION:Jesmond Pool & Gym\, St Georges Terrace\, Jesmond\, Newcastle upon Tyne\, NE2 2DL\, United Kingdom
CATEGORIES:Pool Timetable
ORGANIZER;CN="Jesmond Pool":MAILTO:info@jesmondpool.online
END:VEVENT
BEGIN:VEVENT
DTSTART;TZID=Europe/London:20260507T160000
DTEND;TZID=Europe/London:20260507T190000
DTSTAMP:20260423T155539
CREATED:20260423T122053Z
LAST-MODIFIED:20260423T122053Z
UID:10026190-1778169600-1778180400@jesmondpool.online
SUMMARY:Pool Closed For Swimming Lessons
DESCRIPTION:
URL:https://jesmondpool.online/event/pool-closed-for-swimming-lessons-24/2026-05-07/
LOCATION:Jesmond Pool & Gym\, St Georges Terrace\, Jesmond\, Newcastle upon Tyne\, NE2 2DL\, United Kingdom
CATEGORIES:Pool Timetable
ORGANIZER;CN="Jesmond Pool":MAILTO:info@jesmondpool.online
END:VEVENT
BEGIN:VEVENT
DTSTART;TZID=Europe/London:20260507T190000
DTEND;TZID=Europe/London:20260507T200000
DTSTAMP:20260423T155539
CREATED:20260422T185410Z
LAST-MODIFIED:20260422T185410Z
UID:10026128-1778180400-1778184000@jesmondpool.online
SUMMARY:General Swim (Sauna and Steam Open)
DESCRIPTION:
URL:https://jesmondpool.online/event/general-swim-sauna-and-steam-open-43/2026-05-07/
LOCATION:Jesmond Pool & Gym\, St Georges Terrace\, Jesmond\, Newcastle upon Tyne\, NE2 2DL\, United Kingdom
CATEGORIES:Pool Timetable
ORGANIZER;CN="Jesmond Pool":MAILTO:info@jesmondpool.online
END:VEVENT
BEGIN:VEVENT
DTSTART;TZID=Europe/London:20260507T200000
DTEND;TZID=Europe/London:20260507T220000
DTSTAMP:20260423T155539
CREATED:20260422T185316Z
LAST-MODIFIED:20260422T185316Z
UID:10026112-1778184000-1778191200@jesmondpool.online
SUMMARY:Chill Out Session (Adults Only)
DESCRIPTION:
URL:https://jesmondpool.online/event/chill-out-session-adults-only-16/2026-05-07/
LOCATION:Jesmond Pool & Gym\, St Georges Terrace\, Jesmond\, Newcastle upon Tyne\, NE2 2DL\, United Kingdom
CATEGORIES:Pool Timetable
ORGANIZER;CN="Jesmond Pool":MAILTO:info@jesmondpool.online
END:VEVENT
BEGIN:VEVENT
DTSTART;TZID=Europe/London:20260508T070000
DTEND;TZID=Europe/London:20260508T093000
DTSTAMP:20260423T155539
CREATED:20260423T070050Z
LAST-MODIFIED:20260423T070050Z
UID:10026149-1778223600-1778232600@jesmondpool.online
SUMMARY:General Swim (Sauna and Steam Closed)
DESCRIPTION:
URL:https://jesmondpool.online/event/general-swim-sauna-and-steam-closed-30/2026-05-08/
LOCATION:Jesmond Pool & Gym\, St Georges Terrace\, Jesmond\, Newcastle upon Tyne\, NE2 2DL\, United Kingdom
CATEGORIES:Pool Timetable
ORGANIZER;CN="Jesmond Pool":MAILTO:info@jesmondpool.online
END:VEVENT
BEGIN:VEVENT
DTSTART;TZID=Europe/London:20260508T093000
DTEND;TZID=Europe/London:20260508T120000
DTSTAMP:20260423T155539
CREATED:20260423T070556Z
LAST-MODIFIED:20260423T070556Z
UID:10026181-1778232600-1778241600@jesmondpool.online
SUMMARY:General Swim (Sauna and Steam Open)
DESCRIPTION:
URL:https://jesmondpool.online/event/general-swim-sauna-and-steam-open-44/2026-05-08/
LOCATION:Jesmond Pool & Gym\, St Georges Terrace\, Jesmond\, Newcastle upon Tyne\, NE2 2DL\, United Kingdom
CATEGORIES:Pool Timetable
ORGANIZER;CN="Jesmond Pool":MAILTO:info@jesmondpool.online
END:VEVENT
END:VCALENDAR