BEGIN:VCALENDAR
VERSION:2.0
PRODID:-//Jesmond Pool &amp; Gym - ECPv6.15.17.1//NONSGML v1.0//EN
CALSCALE:GREGORIAN
METHOD:PUBLISH
X-WR-CALNAME:Jesmond Pool &amp; Gym
X-ORIGINAL-URL:https://jesmondpool.online
X-WR-CALDESC:Events for Jesmond Pool &amp; Gym
REFRESH-INTERVAL;VALUE=DURATION:PT1H
X-Robots-Tag:noindex
X-PUBLISHED-TTL:PT1H
BEGIN:VTIMEZONE
TZID:Europe/London
BEGIN:DAYLIGHT
TZOFFSETFROM:+0000
TZOFFSETTO:+0100
TZNAME:BST
DTSTART:20250330T010000
END:DAYLIGHT
BEGIN:STANDARD
TZOFFSETFROM:+0100
TZOFFSETTO:+0000
TZNAME:GMT
DTSTART:20251026T010000
END:STANDARD
BEGIN:DAYLIGHT
TZOFFSETFROM:+0000
TZOFFSETTO:+0100
TZNAME:BST
DTSTART:20260329T010000
END:DAYLIGHT
BEGIN:STANDARD
TZOFFSETFROM:+0100
TZOFFSETTO:+0000
TZNAME:GMT
DTSTART:20261025T010000
END:STANDARD
BEGIN:DAYLIGHT
TZOFFSETFROM:+0000
TZOFFSETTO:+0100
TZNAME:BST
DTSTART:20270328T010000
END:DAYLIGHT
BEGIN:STANDARD
TZOFFSETFROM:+0100
TZOFFSETTO:+0000
TZNAME:GMT
DTSTART:20271031T010000
END:STANDARD
END:VTIMEZONE
BEGIN:VEVENT
DTSTART;TZID=Europe/London:20260522T070000
DTEND;TZID=Europe/London:20260522T093000
DTSTAMP:20260423T233111
CREATED:20260423T070050Z
LAST-MODIFIED:20260423T070050Z
UID:10026155-1779433200-1779442200@jesmondpool.online
SUMMARY:General Swim (Sauna and Steam Closed)
DESCRIPTION:
URL:https://jesmondpool.online/event/general-swim-sauna-and-steam-closed-30/2026-05-22/
LOCATION:Jesmond Pool & Gym\, St Georges Terrace\, Jesmond\, Newcastle upon Tyne\, NE2 2DL\, United Kingdom
CATEGORIES:Pool Timetable
ORGANIZER;CN="Jesmond Pool":MAILTO:info@jesmondpool.online
END:VEVENT
BEGIN:VEVENT
DTSTART;TZID=Europe/London:20260522T093000
DTEND;TZID=Europe/London:20260522T120000
DTSTAMP:20260423T233111
CREATED:20260423T070556Z
LAST-MODIFIED:20260423T070556Z
UID:10026183-1779442200-1779451200@jesmondpool.online
SUMMARY:General Swim (Sauna and Steam Open)
DESCRIPTION:
URL:https://jesmondpool.online/event/general-swim-sauna-and-steam-open-44/2026-05-22/
LOCATION:Jesmond Pool & Gym\, St Georges Terrace\, Jesmond\, Newcastle upon Tyne\, NE2 2DL\, United Kingdom
CATEGORIES:Pool Timetable
ORGANIZER;CN="Jesmond Pool":MAILTO:info@jesmondpool.online
END:VEVENT
BEGIN:VEVENT
DTSTART;TZID=Europe/London:20260522T120000
DTEND;TZID=Europe/London:20260522T130000
DTSTAMP:20260423T233111
CREATED:20260422T185233Z
LAST-MODIFIED:20260422T185233Z
UID:10026103-1779451200-1779454800@jesmondpool.online
SUMMARY:Adults Swim (Sauna and Steam Open)
DESCRIPTION:
URL:https://jesmondpool.online/event/adults-swim-sauna-and-steam-open-4/2026-05-22/
LOCATION:Jesmond Pool & Gym\, St Georges Terrace\, Jesmond\, Newcastle upon Tyne\, NE2 2DL\, United Kingdom
CATEGORIES:Pool Timetable
ORGANIZER;CN="Jesmond Pool":MAILTO:info@jesmondpool.online
END:VEVENT
BEGIN:VEVENT
DTSTART;TZID=Europe/London:20260522T160000
DTEND;TZID=Europe/London:20260522T190000
DTSTAMP:20260423T233111
CREATED:20260423T122053Z
LAST-MODIFIED:20260423T122053Z
UID:10026199-1779465600-1779476400@jesmondpool.online
SUMMARY:Pool Closed For Swimming Lessons
DESCRIPTION:
URL:https://jesmondpool.online/event/pool-closed-for-swimming-lessons-24/2026-05-22/
LOCATION:Jesmond Pool & Gym\, St Georges Terrace\, Jesmond\, Newcastle upon Tyne\, NE2 2DL\, United Kingdom
CATEGORIES:Pool Timetable
ORGANIZER;CN="Jesmond Pool":MAILTO:info@jesmondpool.online
END:VEVENT
BEGIN:VEVENT
DTSTART;TZID=Europe/London:20260522T190000
DTEND;TZID=Europe/London:20260522T200000
DTSTAMP:20260423T233111
CREATED:20260422T185410Z
LAST-MODIFIED:20260422T185410Z
UID:10026135-1779476400-1779480000@jesmondpool.online
SUMMARY:General Swim (Sauna and Steam Open)
DESCRIPTION:
URL:https://jesmondpool.online/event/general-swim-sauna-and-steam-open-43/2026-05-22/
LOCATION:Jesmond Pool & Gym\, St Georges Terrace\, Jesmond\, Newcastle upon Tyne\, NE2 2DL\, United Kingdom
CATEGORIES:Pool Timetable
ORGANIZER;CN="Jesmond Pool":MAILTO:info@jesmondpool.online
END:VEVENT
BEGIN:VEVENT
DTSTART;TZID=Europe/London:20260522T200000
DTEND;TZID=Europe/London:20260522T220000
DTSTAMP:20260423T233111
CREATED:20260422T185316Z
LAST-MODIFIED:20260422T185316Z
UID:10026123-1779480000-1779487200@jesmondpool.online
SUMMARY:Chill Out Session (Adults Only)
DESCRIPTION:
URL:https://jesmondpool.online/event/chill-out-session-adults-only-16/2026-05-22/
LOCATION:Jesmond Pool & Gym\, St Georges Terrace\, Jesmond\, Newcastle upon Tyne\, NE2 2DL\, United Kingdom
CATEGORIES:Pool Timetable
ORGANIZER;CN="Jesmond Pool":MAILTO:info@jesmondpool.online
END:VEVENT
END:VCALENDAR