BEGIN:VCALENDAR
VERSION:2.0
PRODID:-//Jesmond Pool &amp; Gym - ECPv6.15.17.1//NONSGML v1.0//EN
CALSCALE:GREGORIAN
METHOD:PUBLISH
X-WR-CALNAME:Jesmond Pool &amp; Gym
X-ORIGINAL-URL:https://jesmondpool.online
X-WR-CALDESC:Events for Jesmond Pool &amp; Gym
REFRESH-INTERVAL;VALUE=DURATION:PT1H
X-Robots-Tag:noindex
X-PUBLISHED-TTL:PT1H
BEGIN:VTIMEZONE
TZID:Europe/London
BEGIN:DAYLIGHT
TZOFFSETFROM:+0000
TZOFFSETTO:+0100
TZNAME:BST
DTSTART:20250330T010000
END:DAYLIGHT
BEGIN:STANDARD
TZOFFSETFROM:+0100
TZOFFSETTO:+0000
TZNAME:GMT
DTSTART:20251026T010000
END:STANDARD
BEGIN:DAYLIGHT
TZOFFSETFROM:+0000
TZOFFSETTO:+0100
TZNAME:BST
DTSTART:20260329T010000
END:DAYLIGHT
BEGIN:STANDARD
TZOFFSETFROM:+0100
TZOFFSETTO:+0000
TZNAME:GMT
DTSTART:20261025T010000
END:STANDARD
BEGIN:DAYLIGHT
TZOFFSETFROM:+0000
TZOFFSETTO:+0100
TZNAME:BST
DTSTART:20270328T010000
END:DAYLIGHT
BEGIN:STANDARD
TZOFFSETFROM:+0100
TZOFFSETTO:+0000
TZNAME:GMT
DTSTART:20271031T010000
END:STANDARD
END:VTIMEZONE
BEGIN:VEVENT
DTSTART;TZID=Europe/London:20260402T170000
DTEND;TZID=Europe/London:20260402T203000
DTSTAMP:20260422T230551
CREATED:20260326T101304Z
LAST-MODIFIED:20260326T101304Z
UID:10024530-1775149200-1775161800@jesmondpool.online
SUMMARY:Erin’s Dance (3 Years plus) (Pre Booking)
DESCRIPTION:
URL:https://jesmondpool.online/event/erins-dance-3-years-plus-pre-booking-3/
LOCATION:Jesmond Pool & Gym\, St Georges Terrace\, Jesmond\, Newcastle upon Tyne\, NE2 2DL\, United Kingdom
CATEGORIES:Class Timetable
ORGANIZER;CN="Jesmond Pool":MAILTO:info@jesmondpool.online
END:VEVENT
BEGIN:VEVENT
DTSTART;TZID=Europe/London:20260401T191500
DTEND;TZID=Europe/London:20260401T201500
DTSTAMP:20260422T230551
CREATED:20260326T101228Z
LAST-MODIFIED:20260326T101228Z
UID:10024529-1775070900-1775074500@jesmondpool.online
SUMMARY:Ballet with Ruby
DESCRIPTION:
URL:https://jesmondpool.online/event/ballet-with-ruby/
LOCATION:Jesmond Pool & Gym\, St Georges Terrace\, Jesmond\, Newcastle upon Tyne\, NE2 2DL\, United Kingdom
CATEGORIES:Class Timetable
ORGANIZER;CN="Jesmond Pool":MAILTO:info@jesmondpool.online
END:VEVENT
BEGIN:VEVENT
DTSTART;TZID=Europe/London:20260401T180000
DTEND;TZID=Europe/London:20260401T190000
DTSTAMP:20260422T230551
CREATED:20260326T101153Z
LAST-MODIFIED:20260326T101153Z
UID:10024528-1775066400-1775070000@jesmondpool.online
SUMMARY:Yoga with Phil
DESCRIPTION:
URL:https://jesmondpool.online/event/yoga-with-phil/
LOCATION:Jesmond Pool & Gym\, St Georges Terrace\, Jesmond\, Newcastle upon Tyne\, NE2 2DL\, United Kingdom
CATEGORIES:Class Timetable
ORGANIZER;CN="Jesmond Pool":MAILTO:info@jesmondpool.online
END:VEVENT
BEGIN:VEVENT
DTSTART;TZID=Europe/London:20260401T170000
DTEND;TZID=Europe/London:20260401T174500
DTSTAMP:20260422T230551
CREATED:20260326T101121Z
LAST-MODIFIED:20260326T101121Z
UID:10024527-1775062800-1775065500@jesmondpool.online
SUMMARY:Spinning With Lisa
DESCRIPTION:
URL:https://jesmondpool.online/event/spinning-with-lisa-2/
LOCATION:Jesmond Pool & Gym\, St Georges Terrace\, Jesmond\, Newcastle upon Tyne\, NE2 2DL\, United Kingdom
CATEGORIES:Class Timetable
ORGANIZER;CN="Jesmond Pool":MAILTO:info@jesmondpool.online
END:VEVENT
BEGIN:VEVENT
DTSTART;TZID=Europe/London:20260401T140000
DTEND;TZID=Europe/London:20260401T160000
DTSTAMP:20260422T230551
CREATED:20260326T101046Z
LAST-MODIFIED:20260326T101046Z
UID:10024526-1775052000-1775059200@jesmondpool.online
SUMMARY:Private Booking
DESCRIPTION:
URL:https://jesmondpool.online/event/private-booking/
LOCATION:Jesmond Pool & Gym\, St Georges Terrace\, Jesmond\, Newcastle upon Tyne\, NE2 2DL\, United Kingdom
CATEGORIES:Class Timetable
ORGANIZER;CN="Jesmond Pool":MAILTO:info@jesmondpool.online
END:VEVENT
BEGIN:VEVENT
DTSTART;TZID=Europe/London:20260401T090000
DTEND;TZID=Europe/London:20260401T100000
DTSTAMP:20260422T230551
CREATED:20260326T101015Z
LAST-MODIFIED:20260326T101015Z
UID:10024525-1775034000-1775037600@jesmondpool.online
SUMMARY:Zumba with Yuvel
DESCRIPTION:
URL:https://jesmondpool.online/event/zumba-with-yuvel/
LOCATION:Jesmond Pool & Gym\, St Georges Terrace\, Jesmond\, Newcastle upon Tyne\, NE2 2DL\, United Kingdom
CATEGORIES:Class Timetable
ORGANIZER;CN="Jesmond Pool":MAILTO:info@jesmondpool.online
END:VEVENT
BEGIN:VEVENT
DTSTART;TZID=Europe/London:20260331T191500
DTEND;TZID=Europe/London:20260331T200000
DTSTAMP:20260422T230551
CREATED:20260324T080513Z
LAST-MODIFIED:20260324T080513Z
UID:10024499-1774984500-1774987200@jesmondpool.online
SUMMARY:Club N Spin with Donna
DESCRIPTION:
URL:https://jesmondpool.online/event/club-n-spin-with-donna-6/
LOCATION:Jesmond Pool & Gym\, St Georges Terrace\, Jesmond\, Newcastle upon Tyne\, NE2 2DL\, United Kingdom
CATEGORIES:Class Timetable
ORGANIZER;CN="Jesmond Pool":MAILTO:info@jesmondpool.online
END:VEVENT
BEGIN:VEVENT
DTSTART;TZID=Europe/London:20260331T180000
DTEND;TZID=Europe/London:20260331T190000
DTSTAMP:20260422T230551
CREATED:20260324T080441Z
LAST-MODIFIED:20260324T080441Z
UID:10024498-1774980000-1774983600@jesmondpool.online
SUMMARY:Circuits with Craig
DESCRIPTION:
URL:https://jesmondpool.online/event/circuits-with-craig-2/
LOCATION:Jesmond Pool & Gym\, St Georges Terrace\, Jesmond\, Newcastle upon Tyne\, NE2 2DL\, United Kingdom
CATEGORIES:Class Timetable
ORGANIZER;CN="Jesmond Pool":MAILTO:info@jesmondpool.online
END:VEVENT
BEGIN:VEVENT
DTSTART;TZID=Europe/London:20260331T140000
DTEND;TZID=Europe/London:20260331T160000
DTSTAMP:20260422T230551
CREATED:20260324T080358Z
LAST-MODIFIED:20260324T080720Z
UID:10024497-1774965600-1774972800@jesmondpool.online
SUMMARY:Table Tennis with Phil
DESCRIPTION:
URL:https://jesmondpool.online/event/pilates-with-ruby-pre-booked-sessions-2-2/
LOCATION:Jesmond Pool & Gym\, St Georges Terrace\, Jesmond\, Newcastle upon Tyne\, NE2 2DL\, United Kingdom
CATEGORIES:Class Timetable
ORGANIZER;CN="Jesmond Pool":MAILTO:info@jesmondpool.online
END:VEVENT
BEGIN:VEVENT
DTSTART;TZID=Europe/London:20260331T093000
DTEND;TZID=Europe/London:20260331T130000
DTSTAMP:20260422T230551
CREATED:20260324T080319Z
LAST-MODIFIED:20260324T080319Z
UID:10024496-1774949400-1774962000@jesmondpool.online
SUMMARY:Pilates with Ruby (Pre booked Sessions)
DESCRIPTION:
URL:https://jesmondpool.online/event/pilates-with-ruby-pre-booked-sessions-2/
LOCATION:Jesmond Pool & Gym\, St Georges Terrace\, Jesmond\, Newcastle upon Tyne\, NE2 2DL\, United Kingdom
CATEGORIES:Class Timetable
ORGANIZER;CN="Jesmond Pool":MAILTO:info@jesmondpool.online
END:VEVENT
BEGIN:VEVENT
DTSTART;TZID=Europe/London:20260330T190000
DTEND;TZID=Europe/London:20260330T200000
DTSTAMP:20260422T230551
CREATED:20260324T080203Z
LAST-MODIFIED:20260324T080203Z
UID:10024494-1774897200-1774900800@jesmondpool.online
SUMMARY:Masters with Alex
DESCRIPTION:
URL:https://jesmondpool.online/event/club-n-spin-with-donna-5-2/
LOCATION:Jesmond Pool & Gym\, St Georges Terrace\, Jesmond\, Newcastle upon Tyne\, NE2 2DL\, United Kingdom
CATEGORIES:Class Timetable
ORGANIZER;CN="Jesmond Pool":MAILTO:info@jesmondpool.online
END:VEVENT
BEGIN:VEVENT
DTSTART;TZID=Europe/London:20260330T181500
DTEND;TZID=Europe/London:20260330T190000
DTSTAMP:20260422T230551
CREATED:20260324T080133Z
LAST-MODIFIED:20260324T080631Z
UID:10024493-1774894500-1774897200@jesmondpool.online
SUMMARY:Club N Spin with Donna
DESCRIPTION:
URL:https://jesmondpool.online/event/club-n-spin-with-donna-5/
LOCATION:Jesmond Pool & Gym\, St Georges Terrace\, Jesmond\, Newcastle upon Tyne\, NE2 2DL\, United Kingdom
CATEGORIES:Class Timetable
ORGANIZER;CN="Jesmond Pool":MAILTO:info@jesmondpool.online
END:VEVENT
BEGIN:VEVENT
DTSTART;TZID=Europe/London:20260330T161500
DTEND;TZID=Europe/London:20260330T174500
DTSTAMP:20260422T230551
CREATED:20260324T080243Z
LAST-MODIFIED:20260324T080243Z
UID:10024495-1774887300-1774892700@jesmondpool.online
SUMMARY:Erin’s Dance (3 Years plus) (Pre Booking)
DESCRIPTION:
URL:https://jesmondpool.online/event/erins-dance-3-years-plus-pre-booking-2/
LOCATION:Jesmond Pool & Gym\, St Georges Terrace\, Jesmond\, Newcastle upon Tyne\, NE2 2DL\, United Kingdom
CATEGORIES:Class Timetable
ORGANIZER;CN="Jesmond Pool":MAILTO:info@jesmondpool.online
END:VEVENT
BEGIN:VEVENT
DTSTART;TZID=Europe/London:20260330T110000
DTEND;TZID=Europe/London:20260330T120000
DTSTAMP:20260422T230551
CREATED:20260324T080058Z
LAST-MODIFIED:20260324T080058Z
UID:10024492-1774868400-1774872000@jesmondpool.online
SUMMARY:Private Booking
DESCRIPTION:
URL:https://jesmondpool.online/event/deep-aquafit-with-amelia-2-2/
LOCATION:Jesmond Pool & Gym\, St Georges Terrace\, Jesmond\, Newcastle upon Tyne\, NE2 2DL\, United Kingdom
CATEGORIES:Class Timetable
ORGANIZER;CN="Jesmond Pool":MAILTO:info@jesmondpool.online
END:VEVENT
BEGIN:VEVENT
DTSTART;TZID=Europe/London:20260330T100000
DTEND;TZID=Europe/London:20260330T104500
DTSTAMP:20260422T230551
CREATED:20260324T080032Z
LAST-MODIFIED:20260324T080032Z
UID:10024491-1774864800-1774867500@jesmondpool.online
SUMMARY:Deep Aquafit with Amelia
DESCRIPTION:
URL:https://jesmondpool.online/event/deep-aquafit-with-amelia-2/
LOCATION:Jesmond Pool & Gym\, St Georges Terrace\, Jesmond\, Newcastle upon Tyne\, NE2 2DL\, United Kingdom
CATEGORIES:Class Timetable
ORGANIZER;CN="Jesmond Pool":MAILTO:info@jesmondpool.online
END:VEVENT
BEGIN:VEVENT
DTSTART;TZID=Europe/London:20260329T100000
DTEND;TZID=Europe/London:20260329T140000
DTSTAMP:20260422T230551
CREATED:20260324T075927Z
LAST-MODIFIED:20260324T075927Z
UID:10024490-1774778400-1774792800@jesmondpool.online
SUMMARY:Private booking
DESCRIPTION:
URL:https://jesmondpool.online/event/private-booking-6/
LOCATION:Jesmond Pool & Gym\, St Georges Terrace\, Jesmond\, Newcastle upon Tyne\, NE2 2DL\, United Kingdom
CATEGORIES:Class Timetable
ORGANIZER;CN="Jesmond Pool":MAILTO:info@jesmondpool.online
END:VEVENT
BEGIN:VEVENT
DTSTART;TZID=Europe/London:20260328T180000
DTEND;TZID=Europe/London:20260328T190000
DTSTAMP:20260422T230551
CREATED:20260324T075851Z
LAST-MODIFIED:20260324T075851Z
UID:10024489-1774720800-1774724400@jesmondpool.online
SUMMARY:Yoga with Phil
DESCRIPTION:
URL:https://jesmondpool.online/event/yoga-with-phil-4/
LOCATION:Jesmond Pool & Gym\, St Georges Terrace\, Jesmond\, Newcastle upon Tyne\, NE2 2DL\, United Kingdom
CATEGORIES:Class Timetable
ORGANIZER;CN="Jesmond Pool":MAILTO:info@jesmondpool.online
END:VEVENT
BEGIN:VEVENT
DTSTART;TZID=Europe/London:20260328T113000
DTEND;TZID=Europe/London:20260328T123000
DTSTAMP:20260422T230551
CREATED:20260324T075821Z
LAST-MODIFIED:20260324T075821Z
UID:10024488-1774697400-1774701000@jesmondpool.online
SUMMARY:Zumba with Yuvel and Boxercise with Lisa
DESCRIPTION:
URL:https://jesmondpool.online/event/zumba-with-yuvel-and-boxercise-with-lisa/
LOCATION:Jesmond Pool & Gym\, St Georges Terrace\, Jesmond\, Newcastle upon Tyne\, NE2 2DL\, United Kingdom
CATEGORIES:Class Timetable
ORGANIZER;CN="Jesmond Pool":MAILTO:info@jesmondpool.online
END:VEVENT
BEGIN:VEVENT
DTSTART;TZID=Europe/London:20260328T100000
DTEND;TZID=Europe/London:20260328T110000
DTSTAMP:20260422T230551
CREATED:20260324T075747Z
LAST-MODIFIED:20260324T075747Z
UID:10024487-1774692000-1774695600@jesmondpool.online
SUMMARY:Private Booking
DESCRIPTION:
URL:https://jesmondpool.online/event/private-booking-5/
LOCATION:Jesmond Pool & Gym\, St Georges Terrace\, Jesmond\, Newcastle upon Tyne\, NE2 2DL\, United Kingdom
CATEGORIES:Class Timetable
ORGANIZER;CN="Jesmond Pool":MAILTO:info@jesmondpool.online
END:VEVENT
BEGIN:VEVENT
DTSTART;TZID=Europe/London:20260328T084500
DTEND;TZID=Europe/London:20260328T093000
DTSTAMP:20260422T230551
CREATED:20260324T075714Z
LAST-MODIFIED:20260324T075714Z
UID:10024486-1774687500-1774690200@jesmondpool.online
SUMMARY:Club N Spin with Donna
DESCRIPTION:
URL:https://jesmondpool.online/event/club-n-spin-with-donna-4/
LOCATION:Jesmond Pool & Gym\, St Georges Terrace\, Jesmond\, Newcastle upon Tyne\, NE2 2DL\, United Kingdom
CATEGORIES:Class Timetable
ORGANIZER;CN="Jesmond Pool":MAILTO:info@jesmondpool.online
END:VEVENT
BEGIN:VEVENT
DTSTART;TZID=Europe/London:20260327T110000
DTEND;TZID=Europe/London:20260327T120000
DTSTAMP:20260422T230551
CREATED:20260320T075507Z
LAST-MODIFIED:20260320T075507Z
UID:10024433-1774609200-1774612800@jesmondpool.online
SUMMARY:Pilates with Anna
DESCRIPTION:
URL:https://jesmondpool.online/event/pilates-with-anna-2/
LOCATION:Jesmond Pool & Gym\, St Georges Terrace\, Jesmond\, Newcastle upon Tyne\, NE2 2DL\, United Kingdom
CATEGORIES:Class Timetable
ORGANIZER;CN="Jesmond Pool":MAILTO:info@jesmondpool.online
END:VEVENT
BEGIN:VEVENT
DTSTART;TZID=Europe/London:20260326T170000
DTEND;TZID=Europe/London:20260326T203000
DTSTAMP:20260422T230551
CREATED:20260320T075423Z
LAST-MODIFIED:20260320T075423Z
UID:10024432-1774544400-1774557000@jesmondpool.online
SUMMARY:Erin’s Dance (3 Years plus) (Pre Booking)
DESCRIPTION:
URL:https://jesmondpool.online/event/erins-dance-3-years-plus-pre-booking/
LOCATION:Jesmond Pool & Gym\, St Georges Terrace\, Jesmond\, Newcastle upon Tyne\, NE2 2DL\, United Kingdom
CATEGORIES:Class Timetable
ORGANIZER;CN="Jesmond Pool":MAILTO:info@jesmondpool.online
END:VEVENT
BEGIN:VEVENT
DTSTART;TZID=Europe/London:20260325T191500
DTEND;TZID=Europe/London:20260325T201500
DTSTAMP:20260422T230551
CREATED:20260319T104122Z
LAST-MODIFIED:20260319T104122Z
UID:10024418-1774466100-1774469700@jesmondpool.online
SUMMARY:Ballet with Ruby
DESCRIPTION:
URL:https://jesmondpool.online/event/ballet-with-ruby-2/
LOCATION:Jesmond Pool & Gym\, St Georges Terrace\, Jesmond\, Newcastle upon Tyne\, NE2 2DL\, United Kingdom
CATEGORIES:Class Timetable
ORGANIZER;CN="Jesmond Pool":MAILTO:info@jesmondpool.online
END:VEVENT
BEGIN:VEVENT
DTSTART;TZID=Europe/London:20260325T180000
DTEND;TZID=Europe/London:20260325T190000
DTSTAMP:20260422T230551
CREATED:20260319T104041Z
LAST-MODIFIED:20260319T104041Z
UID:10024417-1774461600-1774465200@jesmondpool.online
SUMMARY:Yoga with Phil
DESCRIPTION:
URL:https://jesmondpool.online/event/yoga-with-phil-3/
LOCATION:Jesmond Pool & Gym\, St Georges Terrace\, Jesmond\, Newcastle upon Tyne\, NE2 2DL\, United Kingdom
CATEGORIES:Class Timetable
ORGANIZER;CN="Jesmond Pool":MAILTO:info@jesmondpool.online
END:VEVENT
BEGIN:VEVENT
DTSTART;TZID=Europe/London:20260325T170000
DTEND;TZID=Europe/London:20260325T174500
DTSTAMP:20260422T230551
CREATED:20260319T104000Z
LAST-MODIFIED:20260319T104000Z
UID:10024416-1774458000-1774460700@jesmondpool.online
SUMMARY:Spinning With Lisa
DESCRIPTION:
URL:https://jesmondpool.online/event/spinning-with-lisa/
LOCATION:Jesmond Pool & Gym\, St Georges Terrace\, Jesmond\, Newcastle upon Tyne\, NE2 2DL\, United Kingdom
CATEGORIES:Class Timetable
ORGANIZER;CN="Jesmond Pool":MAILTO:info@jesmondpool.online
END:VEVENT
BEGIN:VEVENT
DTSTART;TZID=Europe/London:20260325T140000
DTEND;TZID=Europe/London:20260325T160000
DTSTAMP:20260422T230551
CREATED:20260319T103504Z
LAST-MODIFIED:20260319T104359Z
UID:10024415-1774447200-1774454400@jesmondpool.online
SUMMARY:Private Booking
DESCRIPTION:
URL:https://jesmondpool.online/event/private-booking-4/
LOCATION:Jesmond Pool & Gym\, St Georges Terrace\, Jesmond\, Newcastle upon Tyne\, NE2 2DL\, United Kingdom
CATEGORIES:Class Timetable
ORGANIZER;CN="Jesmond Pool":MAILTO:info@jesmondpool.online
END:VEVENT
BEGIN:VEVENT
DTSTART;TZID=Europe/London:20260325T090000
DTEND;TZID=Europe/London:20260325T100000
DTSTAMP:20260422T230551
CREATED:20260319T103408Z
LAST-MODIFIED:20260319T103408Z
UID:10024414-1774429200-1774432800@jesmondpool.online
SUMMARY:Zumba with Yuvel
DESCRIPTION:
URL:https://jesmondpool.online/event/zumba-with-yuvel-2/
LOCATION:Jesmond Pool & Gym\, St Georges Terrace\, Jesmond\, Newcastle upon Tyne\, NE2 2DL\, United Kingdom
CATEGORIES:Class Timetable
ORGANIZER;CN="Jesmond Pool":MAILTO:info@jesmondpool.online
END:VEVENT
BEGIN:VEVENT
DTSTART;TZID=Europe/London:20260324T191500
DTEND;TZID=Europe/London:20260324T200000
DTSTAMP:20260422T230551
CREATED:20260319T103304Z
LAST-MODIFIED:20260319T103304Z
UID:10024413-1774379700-1774382400@jesmondpool.online
SUMMARY:Club N Spin with Donna
DESCRIPTION:
URL:https://jesmondpool.online/event/club-n-spin-with-donna-3/
LOCATION:Jesmond Pool & Gym\, St Georges Terrace\, Jesmond\, Newcastle upon Tyne\, NE2 2DL\, United Kingdom
CATEGORIES:Class Timetable
ORGANIZER;CN="Jesmond Pool":MAILTO:info@jesmondpool.online
END:VEVENT
BEGIN:VEVENT
DTSTART;TZID=Europe/London:20260324T180000
DTEND;TZID=Europe/London:20260324T190000
DTSTAMP:20260422T230551
CREATED:20260319T103221Z
LAST-MODIFIED:20260319T103221Z
UID:10024412-1774375200-1774378800@jesmondpool.online
SUMMARY:Circuits with Craig
DESCRIPTION:
URL:https://jesmondpool.online/event/circuits-with-craig/
LOCATION:Jesmond Pool & Gym\, St Georges Terrace\, Jesmond\, Newcastle upon Tyne\, NE2 2DL\, United Kingdom
CATEGORIES:Class Timetable
ORGANIZER;CN="Jesmond Pool":MAILTO:info@jesmondpool.online
END:VEVENT
BEGIN:VEVENT
DTSTART;TZID=Europe/London:20260324T140000
DTEND;TZID=Europe/London:20260324T160000
DTSTAMP:20260422T230551
CREATED:20260319T103048Z
LAST-MODIFIED:20260319T104311Z
UID:10024410-1774360800-1774368000@jesmondpool.online
SUMMARY:Table Tennis with Phil
DESCRIPTION:
URL:https://jesmondpool.online/event/table-tennis-with-phil/
LOCATION:Jesmond Pool & Gym\, St Georges Terrace\, Jesmond\, Newcastle upon Tyne\, NE2 2DL\, United Kingdom
CATEGORIES:Class Timetable
ORGANIZER;CN="Jesmond Pool":MAILTO:info@jesmondpool.online
END:VEVENT
END:VCALENDAR