BEGIN:VCALENDAR
VERSION:2.0
PRODID:-//Jesmond Pool &amp; Gym - ECPv6.15.17.1//NONSGML v1.0//EN
CALSCALE:GREGORIAN
METHOD:PUBLISH
X-WR-CALNAME:Jesmond Pool &amp; Gym
X-ORIGINAL-URL:https://jesmondpool.online
X-WR-CALDESC:Events for Jesmond Pool &amp; Gym
REFRESH-INTERVAL;VALUE=DURATION:PT1H
X-Robots-Tag:noindex
X-PUBLISHED-TTL:PT1H
BEGIN:VTIMEZONE
TZID:Europe/London
BEGIN:DAYLIGHT
TZOFFSETFROM:+0000
TZOFFSETTO:+0100
TZNAME:BST
DTSTART:20250330T010000
END:DAYLIGHT
BEGIN:STANDARD
TZOFFSETFROM:+0100
TZOFFSETTO:+0000
TZNAME:GMT
DTSTART:20251026T010000
END:STANDARD
BEGIN:DAYLIGHT
TZOFFSETFROM:+0000
TZOFFSETTO:+0100
TZNAME:BST
DTSTART:20260329T010000
END:DAYLIGHT
BEGIN:STANDARD
TZOFFSETFROM:+0100
TZOFFSETTO:+0000
TZNAME:GMT
DTSTART:20261025T010000
END:STANDARD
BEGIN:DAYLIGHT
TZOFFSETFROM:+0000
TZOFFSETTO:+0100
TZNAME:BST
DTSTART:20270328T010000
END:DAYLIGHT
BEGIN:STANDARD
TZOFFSETFROM:+0100
TZOFFSETTO:+0000
TZNAME:GMT
DTSTART:20271031T010000
END:STANDARD
END:VTIMEZONE
BEGIN:VEVENT
DTSTART;TZID=Europe/London:20260426T090000
DTEND;TZID=Europe/London:20260426T150000
DTSTAMP:20260422T235056
CREATED:20260404T164614Z
LAST-MODIFIED:20260404T164614Z
UID:10024660-1777194000-1777215600@jesmondpool.online
SUMMARY:Private booking
DESCRIPTION:
URL:https://jesmondpool.online/event/private-booking-13/
LOCATION:Jesmond Pool & Gym\, St Georges Terrace\, Jesmond\, Newcastle upon Tyne\, NE2 2DL\, United Kingdom
CATEGORIES:Class Timetable
ORGANIZER;CN="Jesmond Pool":MAILTO:info@jesmondpool.online
END:VEVENT
BEGIN:VEVENT
DTSTART;TZID=Europe/London:20260426T160000
DTEND;TZID=Europe/London:20260426T170000
DTSTAMP:20260422T235056
CREATED:20260404T164545Z
LAST-MODIFIED:20260404T164545Z
UID:10024659-1777219200-1777222800@jesmondpool.online
SUMMARY:Ballroom With Sue
DESCRIPTION:
URL:https://jesmondpool.online/event/ballroom-with-sue/
LOCATION:Jesmond Pool & Gym\, St Georges Terrace\, Jesmond\, Newcastle upon Tyne\, NE2 2DL\, United Kingdom
CATEGORIES:Class Timetable
ORGANIZER;CN="Jesmond Pool":MAILTO:info@jesmondpool.online
END:VEVENT
END:VCALENDAR