BEGIN:VCALENDAR
VERSION:2.0
PRODID:-//Jesmond Pool &amp; Gym - ECPv6.15.17.1//NONSGML v1.0//EN
CALSCALE:GREGORIAN
METHOD:PUBLISH
X-WR-CALNAME:Jesmond Pool &amp; Gym
X-ORIGINAL-URL:https://jesmondpool.online
X-WR-CALDESC:Events for Jesmond Pool &amp; Gym
REFRESH-INTERVAL;VALUE=DURATION:PT1H
X-Robots-Tag:noindex
X-PUBLISHED-TTL:PT1H
BEGIN:VTIMEZONE
TZID:Europe/London
BEGIN:DAYLIGHT
TZOFFSETFROM:+0000
TZOFFSETTO:+0100
TZNAME:BST
DTSTART:20250330T010000
END:DAYLIGHT
BEGIN:STANDARD
TZOFFSETFROM:+0100
TZOFFSETTO:+0000
TZNAME:GMT
DTSTART:20251026T010000
END:STANDARD
BEGIN:DAYLIGHT
TZOFFSETFROM:+0000
TZOFFSETTO:+0100
TZNAME:BST
DTSTART:20260329T010000
END:DAYLIGHT
BEGIN:STANDARD
TZOFFSETFROM:+0100
TZOFFSETTO:+0000
TZNAME:GMT
DTSTART:20261025T010000
END:STANDARD
BEGIN:DAYLIGHT
TZOFFSETFROM:+0000
TZOFFSETTO:+0100
TZNAME:BST
DTSTART:20270328T010000
END:DAYLIGHT
BEGIN:STANDARD
TZOFFSETFROM:+0100
TZOFFSETTO:+0000
TZNAME:GMT
DTSTART:20271031T010000
END:STANDARD
END:VTIMEZONE
BEGIN:VEVENT
DTSTART;TZID=Europe/London:20260414T100000
DTEND;TZID=Europe/London:20260414T104500
DTSTAMP:20260422T234429
CREATED:20260404T163021Z
LAST-MODIFIED:20260404T163021Z
UID:10024638-1776160800-1776163500@jesmondpool.online
SUMMARY:Aquafit with Lisa in the shallow end
DESCRIPTION:
URL:https://jesmondpool.online/event/aquafit-with-lisa-in-the-shallow-end/
LOCATION:Jesmond Pool & Gym\, St Georges Terrace\, Jesmond\, Newcastle upon Tyne\, NE2 2DL\, United Kingdom
CATEGORIES:Class Timetable
ORGANIZER;CN="Jesmond Pool":MAILTO:info@jesmondpool.online
END:VEVENT
BEGIN:VEVENT
DTSTART;TZID=Europe/London:20260414T180000
DTEND;TZID=Europe/London:20260414T190000
DTSTAMP:20260422T234429
CREATED:20260404T162704Z
LAST-MODIFIED:20260404T162704Z
UID:10024633-1776189600-1776193200@jesmondpool.online
SUMMARY:Circuits with Craig
DESCRIPTION:
URL:https://jesmondpool.online/event/circuits-with-craig-4/
LOCATION:Jesmond Pool & Gym\, St Georges Terrace\, Jesmond\, Newcastle upon Tyne\, NE2 2DL\, United Kingdom
CATEGORIES:Class Timetable
ORGANIZER;CN="Jesmond Pool":MAILTO:info@jesmondpool.online
END:VEVENT
BEGIN:VEVENT
DTSTART;TZID=Europe/London:20260415T180000
DTEND;TZID=Europe/London:20260415T190000
DTSTAMP:20260422T234429
CREATED:20260404T162743Z
LAST-MODIFIED:20260404T162743Z
UID:10024634-1776276000-1776279600@jesmondpool.online
SUMMARY:Yoga with Phil
DESCRIPTION:
URL:https://jesmondpool.online/event/yoga-with-phil-6/
LOCATION:Jesmond Pool & Gym\, St Georges Terrace\, Jesmond\, Newcastle upon Tyne\, NE2 2DL\, United Kingdom
CATEGORIES:Class Timetable
ORGANIZER;CN="Jesmond Pool":MAILTO:info@jesmondpool.online
END:VEVENT
BEGIN:VEVENT
DTSTART;TZID=Europe/London:20260416T100000
DTEND;TZID=Europe/London:20260416T104500
DTSTAMP:20260422T234429
CREATED:20260404T163053Z
LAST-MODIFIED:20260404T163053Z
UID:10024639-1776333600-1776336300@jesmondpool.online
SUMMARY:Aquafit with Lisa in the shallow end
DESCRIPTION:
URL:https://jesmondpool.online/event/aquafit-with-lisa-in-the-shallow-end-2/
LOCATION:Jesmond Pool & Gym\, St Georges Terrace\, Jesmond\, Newcastle upon Tyne\, NE2 2DL\, United Kingdom
CATEGORIES:Class Timetable
ORGANIZER;CN="Jesmond Pool":MAILTO:info@jesmondpool.online
END:VEVENT
BEGIN:VEVENT
DTSTART;TZID=Europe/London:20260418T100000
DTEND;TZID=Europe/London:20260418T113000
DTSTAMP:20260422T234429
CREATED:20260404T162816Z
LAST-MODIFIED:20260404T162816Z
UID:10024635-1776506400-1776511800@jesmondpool.online
SUMMARY:Private Booking
DESCRIPTION:
URL:https://jesmondpool.online/event/private-booking-9/
LOCATION:Jesmond Pool & Gym\, St Georges Terrace\, Jesmond\, Newcastle upon Tyne\, NE2 2DL\, United Kingdom
CATEGORIES:Class Timetable
ORGANIZER;CN="Jesmond Pool":MAILTO:info@jesmondpool.online
END:VEVENT
BEGIN:VEVENT
DTSTART;TZID=Europe/London:20260418T113000
DTEND;TZID=Europe/London:20260418T123000
DTSTAMP:20260422T234429
CREATED:20260404T162850Z
LAST-MODIFIED:20260404T162850Z
UID:10024636-1776511800-1776515400@jesmondpool.online
SUMMARY:Zumba with Yuvel and Boxercise with Lisa
DESCRIPTION:
URL:https://jesmondpool.online/event/zumba-with-yuvel-and-boxercise-with-lisa-4/
LOCATION:Jesmond Pool & Gym\, St Georges Terrace\, Jesmond\, Newcastle upon Tyne\, NE2 2DL\, United Kingdom
CATEGORIES:Class Timetable
ORGANIZER;CN="Jesmond Pool":MAILTO:info@jesmondpool.online
END:VEVENT
BEGIN:VEVENT
DTSTART;TZID=Europe/London:20260418T140000
DTEND;TZID=Europe/London:20260418T150000
DTSTAMP:20260422T234429
CREATED:20260404T162920Z
LAST-MODIFIED:20260404T162920Z
UID:10024637-1776520800-1776524400@jesmondpool.online
SUMMARY:Yoga with Phil
DESCRIPTION:
URL:https://jesmondpool.online/event/yoga-with-phil-7/
LOCATION:Jesmond Pool & Gym\, St Georges Terrace\, Jesmond\, Newcastle upon Tyne\, NE2 2DL\, United Kingdom
CATEGORIES:Class Timetable
ORGANIZER;CN="Jesmond Pool":MAILTO:info@jesmondpool.online
END:VEVENT
BEGIN:VEVENT
DTSTART;TZID=Europe/London:20260420T100000
DTEND;TZID=Europe/London:20260420T104500
DTSTAMP:20260422T234429
CREATED:20260404T163140Z
LAST-MODIFIED:20260404T163140Z
UID:10024640-1776679200-1776681900@jesmondpool.online
SUMMARY:Deep Aquafit with Amelia
DESCRIPTION:
URL:https://jesmondpool.online/event/deep-aquafit-with-amelia-4/
LOCATION:Jesmond Pool & Gym\, St Georges Terrace\, Jesmond\, Newcastle upon Tyne\, NE2 2DL\, United Kingdom
CATEGORIES:Class Timetable
ORGANIZER;CN="Jesmond Pool":MAILTO:info@jesmondpool.online
END:VEVENT
BEGIN:VEVENT
DTSTART;TZID=Europe/London:20260420T110000
DTEND;TZID=Europe/London:20260420T120000
DTSTAMP:20260422T234429
CREATED:20260404T163216Z
LAST-MODIFIED:20260404T163216Z
UID:10024641-1776682800-1776686400@jesmondpool.online
SUMMARY:Private Booking
DESCRIPTION:
URL:https://jesmondpool.online/event/private-booking-10/
LOCATION:Jesmond Pool & Gym\, St Georges Terrace\, Jesmond\, Newcastle upon Tyne\, NE2 2DL\, United Kingdom
CATEGORIES:Class Timetable
ORGANIZER;CN="Jesmond Pool":MAILTO:info@jesmondpool.online
END:VEVENT
BEGIN:VEVENT
DTSTART;TZID=Europe/London:20260420T161500
DTEND;TZID=Europe/London:20260420T174500
DTSTAMP:20260422T234429
CREATED:20260404T163256Z
LAST-MODIFIED:20260404T163256Z
UID:10024642-1776701700-1776707100@jesmondpool.online
SUMMARY:Erin’s Dance (3 Years plus) (Pre Booking)
DESCRIPTION:
URL:https://jesmondpool.online/event/erins-dance-3-years-plus-pre-booking-4/
LOCATION:Jesmond Pool & Gym\, St Georges Terrace\, Jesmond\, Newcastle upon Tyne\, NE2 2DL\, United Kingdom
CATEGORIES:Class Timetable
ORGANIZER;CN="Jesmond Pool":MAILTO:info@jesmondpool.online
END:VEVENT
BEGIN:VEVENT
DTSTART;TZID=Europe/London:20260420T190000
DTEND;TZID=Europe/London:20260420T200000
DTSTAMP:20260422T234429
CREATED:20260404T163356Z
LAST-MODIFIED:20260404T163356Z
UID:10024643-1776711600-1776715200@jesmondpool.online
SUMMARY:Masters with Alex
DESCRIPTION:
URL:https://jesmondpool.online/event/masters-with-alex-3/
LOCATION:Jesmond Pool & Gym\, St Georges Terrace\, Jesmond\, Newcastle upon Tyne\, NE2 2DL\, United Kingdom
CATEGORIES:Class Timetable
ORGANIZER;CN="Jesmond Pool":MAILTO:info@jesmondpool.online
END:VEVENT
BEGIN:VEVENT
DTSTART;TZID=Europe/London:20260421T093000
DTEND;TZID=Europe/London:20260421T130000
DTSTAMP:20260422T234429
CREATED:20260404T163430Z
LAST-MODIFIED:20260404T163430Z
UID:10024644-1776763800-1776776400@jesmondpool.online
SUMMARY:Pilates with Ruby (Pre booked Sessions)
DESCRIPTION:
URL:https://jesmondpool.online/event/pilates-with-ruby-pre-booked-sessions-3/
LOCATION:Jesmond Pool & Gym\, St Georges Terrace\, Jesmond\, Newcastle upon Tyne\, NE2 2DL\, United Kingdom
CATEGORIES:Class Timetable
ORGANIZER;CN="Jesmond Pool":MAILTO:info@jesmondpool.online
END:VEVENT
BEGIN:VEVENT
DTSTART;TZID=Europe/London:20260421T140000
DTEND;TZID=Europe/London:20260421T160000
DTSTAMP:20260422T234429
CREATED:20260404T163500Z
LAST-MODIFIED:20260404T163500Z
UID:10024645-1776780000-1776787200@jesmondpool.online
SUMMARY:Table Tennis with Phil
DESCRIPTION:
URL:https://jesmondpool.online/event/table-tennis-with-phil-3/
LOCATION:Jesmond Pool & Gym\, St Georges Terrace\, Jesmond\, Newcastle upon Tyne\, NE2 2DL\, United Kingdom
CATEGORIES:Class Timetable
ORGANIZER;CN="Jesmond Pool":MAILTO:info@jesmondpool.online
END:VEVENT
BEGIN:VEVENT
DTSTART;TZID=Europe/London:20260421T180000
DTEND;TZID=Europe/London:20260421T190000
DTSTAMP:20260422T234429
CREATED:20260404T163531Z
LAST-MODIFIED:20260404T163531Z
UID:10024646-1776794400-1776798000@jesmondpool.online
SUMMARY:Circuits with Craig
DESCRIPTION:
URL:https://jesmondpool.online/event/circuits-with-craig-5/
LOCATION:Jesmond Pool & Gym\, St Georges Terrace\, Jesmond\, Newcastle upon Tyne\, NE2 2DL\, United Kingdom
CATEGORIES:Class Timetable
ORGANIZER;CN="Jesmond Pool":MAILTO:info@jesmondpool.online
END:VEVENT
BEGIN:VEVENT
DTSTART;TZID=Europe/London:20260422T090000
DTEND;TZID=Europe/London:20260422T100000
DTSTAMP:20260422T234429
CREATED:20260404T163859Z
LAST-MODIFIED:20260404T163859Z
UID:10024647-1776848400-1776852000@jesmondpool.online
SUMMARY:Zumba with Yuvel
DESCRIPTION:
URL:https://jesmondpool.online/event/zumba-with-yuvel-4/
LOCATION:Jesmond Pool & Gym\, St Georges Terrace\, Jesmond\, Newcastle upon Tyne\, NE2 2DL\, United Kingdom
CATEGORIES:Class Timetable
ORGANIZER;CN="Jesmond Pool":MAILTO:info@jesmondpool.online
END:VEVENT
BEGIN:VEVENT
DTSTART;TZID=Europe/London:20260422T140000
DTEND;TZID=Europe/London:20260422T160000
DTSTAMP:20260422T234429
CREATED:20260404T163927Z
LAST-MODIFIED:20260404T163927Z
UID:10024648-1776866400-1776873600@jesmondpool.online
SUMMARY:Private Booking
DESCRIPTION:
URL:https://jesmondpool.online/event/private-booking-11/
LOCATION:Jesmond Pool & Gym\, St Georges Terrace\, Jesmond\, Newcastle upon Tyne\, NE2 2DL\, United Kingdom
CATEGORIES:Class Timetable
ORGANIZER;CN="Jesmond Pool":MAILTO:info@jesmondpool.online
END:VEVENT
BEGIN:VEVENT
DTSTART;TZID=Europe/London:20260422T170000
DTEND;TZID=Europe/London:20260422T174500
DTSTAMP:20260422T234429
CREATED:20260404T164000Z
LAST-MODIFIED:20260404T164000Z
UID:10024649-1776877200-1776879900@jesmondpool.online
SUMMARY:Spinning With Lisa
DESCRIPTION:
URL:https://jesmondpool.online/event/spinning-with-lisa-4/
LOCATION:Jesmond Pool & Gym\, St Georges Terrace\, Jesmond\, Newcastle upon Tyne\, NE2 2DL\, United Kingdom
CATEGORIES:Class Timetable
ORGANIZER;CN="Jesmond Pool":MAILTO:info@jesmondpool.online
END:VEVENT
BEGIN:VEVENT
DTSTART;TZID=Europe/London:20260422T180000
DTEND;TZID=Europe/London:20260422T190000
DTSTAMP:20260422T234429
CREATED:20260404T164030Z
LAST-MODIFIED:20260404T164030Z
UID:10024650-1776880800-1776884400@jesmondpool.online
SUMMARY:Yoga with Phil
DESCRIPTION:
URL:https://jesmondpool.online/event/yoga-with-phil-8/
LOCATION:Jesmond Pool & Gym\, St Georges Terrace\, Jesmond\, Newcastle upon Tyne\, NE2 2DL\, United Kingdom
CATEGORIES:Class Timetable
ORGANIZER;CN="Jesmond Pool":MAILTO:info@jesmondpool.online
END:VEVENT
BEGIN:VEVENT
DTSTART;TZID=Europe/London:20260422T191500
DTEND;TZID=Europe/London:20260422T201500
DTSTAMP:20260422T234429
CREATED:20260404T164108Z
LAST-MODIFIED:20260404T164108Z
UID:10024651-1776885300-1776888900@jesmondpool.online
SUMMARY:Ballet with Ruby
DESCRIPTION:
URL:https://jesmondpool.online/event/ballet-with-ruby-4/
LOCATION:Jesmond Pool & Gym\, St Georges Terrace\, Jesmond\, Newcastle upon Tyne\, NE2 2DL\, United Kingdom
CATEGORIES:Class Timetable
ORGANIZER;CN="Jesmond Pool":MAILTO:info@jesmondpool.online
END:VEVENT
BEGIN:VEVENT
DTSTART;TZID=Europe/London:20260423T100000
DTEND;TZID=Europe/London:20260423T104500
DTSTAMP:20260422T234429
CREATED:20260404T164756Z
LAST-MODIFIED:20260404T164756Z
UID:10024662-1776938400-1776941100@jesmondpool.online
SUMMARY:Aquafit in the shallow end with Lisa
DESCRIPTION:
URL:https://jesmondpool.online/event/aquafit-in-the-shallow-end-with-lisa-2/
LOCATION:Jesmond Pool & Gym\, St Georges Terrace\, Jesmond\, Newcastle upon Tyne\, NE2 2DL\, United Kingdom
CATEGORIES:Class Timetable
ORGANIZER;CN="Jesmond Pool":MAILTO:info@jesmondpool.online
END:VEVENT
BEGIN:VEVENT
DTSTART;TZID=Europe/London:20260423T170000
DTEND;TZID=Europe/London:20260423T203000
DTSTAMP:20260422T234429
CREATED:20260404T164142Z
LAST-MODIFIED:20260404T164142Z
UID:10024652-1776963600-1776976200@jesmondpool.online
SUMMARY:Erin’s Dance (3 Years plus) (Pre Booking)
DESCRIPTION:
URL:https://jesmondpool.online/event/erins-dance-3-years-plus-pre-booking-5/
LOCATION:Jesmond Pool & Gym\, St Georges Terrace\, Jesmond\, Newcastle upon Tyne\, NE2 2DL\, United Kingdom
CATEGORIES:Class Timetable
ORGANIZER;CN="Jesmond Pool":MAILTO:info@jesmondpool.online
END:VEVENT
BEGIN:VEVENT
DTSTART;TZID=Europe/London:20260424T110000
DTEND;TZID=Europe/London:20260424T120000
DTSTAMP:20260422T234429
CREATED:20260404T164250Z
LAST-MODIFIED:20260404T164250Z
UID:10024654-1777028400-1777032000@jesmondpool.online
SUMMARY:Pilates with Anna
DESCRIPTION:
URL:https://jesmondpool.online/event/pilates-with-anna-3/
LOCATION:Jesmond Pool & Gym\, St Georges Terrace\, Jesmond\, Newcastle upon Tyne\, NE2 2DL\, United Kingdom
CATEGORIES:Class Timetable
ORGANIZER;CN="Jesmond Pool":MAILTO:info@jesmondpool.online
END:VEVENT
BEGIN:VEVENT
DTSTART;TZID=Europe/London:20260425T084500
DTEND;TZID=Europe/London:20260425T093000
DTSTAMP:20260422T234429
CREATED:20260404T164327Z
LAST-MODIFIED:20260404T164327Z
UID:10024655-1777106700-1777109400@jesmondpool.online
SUMMARY:Club N Spin with Donna
DESCRIPTION:
URL:https://jesmondpool.online/event/club-n-spin-with-donna-7/
LOCATION:Jesmond Pool & Gym\, St Georges Terrace\, Jesmond\, Newcastle upon Tyne\, NE2 2DL\, United Kingdom
CATEGORIES:Class Timetable
ORGANIZER;CN="Jesmond Pool":MAILTO:info@jesmondpool.online
END:VEVENT
BEGIN:VEVENT
DTSTART;TZID=Europe/London:20260425T100000
DTEND;TZID=Europe/London:20260425T110000
DTSTAMP:20260422T234429
CREATED:20260404T164359Z
LAST-MODIFIED:20260404T164359Z
UID:10024656-1777111200-1777114800@jesmondpool.online
SUMMARY:Private Booking
DESCRIPTION:
URL:https://jesmondpool.online/event/private-booking-12/
LOCATION:Jesmond Pool & Gym\, St Georges Terrace\, Jesmond\, Newcastle upon Tyne\, NE2 2DL\, United Kingdom
CATEGORIES:Class Timetable
ORGANIZER;CN="Jesmond Pool":MAILTO:info@jesmondpool.online
END:VEVENT
BEGIN:VEVENT
DTSTART;TZID=Europe/London:20260425T113000
DTEND;TZID=Europe/London:20260425T123000
DTSTAMP:20260422T234429
CREATED:20260404T164426Z
LAST-MODIFIED:20260404T164426Z
UID:10024657-1777116600-1777120200@jesmondpool.online
SUMMARY:Zumba with Yuvel and Boxercise with Lisa
DESCRIPTION:
URL:https://jesmondpool.online/event/zumba-with-yuvel-and-boxercise-with-lisa-5/
LOCATION:Jesmond Pool & Gym\, St Georges Terrace\, Jesmond\, Newcastle upon Tyne\, NE2 2DL\, United Kingdom
CATEGORIES:Class Timetable
ORGANIZER;CN="Jesmond Pool":MAILTO:info@jesmondpool.online
END:VEVENT
BEGIN:VEVENT
DTSTART;TZID=Europe/London:20260425T140000
DTEND;TZID=Europe/London:20260425T150000
DTSTAMP:20260422T234429
CREATED:20260404T164455Z
LAST-MODIFIED:20260404T164455Z
UID:10024658-1777125600-1777129200@jesmondpool.online
SUMMARY:Yoga with Phil
DESCRIPTION:
URL:https://jesmondpool.online/event/yoga-with-phil-9/
LOCATION:Jesmond Pool & Gym\, St Georges Terrace\, Jesmond\, Newcastle upon Tyne\, NE2 2DL\, United Kingdom
CATEGORIES:Class Timetable
ORGANIZER;CN="Jesmond Pool":MAILTO:info@jesmondpool.online
END:VEVENT
BEGIN:VEVENT
DTSTART;TZID=Europe/London:20260426T090000
DTEND;TZID=Europe/London:20260426T150000
DTSTAMP:20260422T234429
CREATED:20260404T164614Z
LAST-MODIFIED:20260404T164614Z
UID:10024660-1777194000-1777215600@jesmondpool.online
SUMMARY:Private booking
DESCRIPTION:
URL:https://jesmondpool.online/event/private-booking-13/
LOCATION:Jesmond Pool & Gym\, St Georges Terrace\, Jesmond\, Newcastle upon Tyne\, NE2 2DL\, United Kingdom
CATEGORIES:Class Timetable
ORGANIZER;CN="Jesmond Pool":MAILTO:info@jesmondpool.online
END:VEVENT
BEGIN:VEVENT
DTSTART;TZID=Europe/London:20260426T160000
DTEND;TZID=Europe/London:20260426T170000
DTSTAMP:20260422T234429
CREATED:20260404T164545Z
LAST-MODIFIED:20260404T164545Z
UID:10024659-1777219200-1777222800@jesmondpool.online
SUMMARY:Ballroom With Sue
DESCRIPTION:
URL:https://jesmondpool.online/event/ballroom-with-sue/
LOCATION:Jesmond Pool & Gym\, St Georges Terrace\, Jesmond\, Newcastle upon Tyne\, NE2 2DL\, United Kingdom
CATEGORIES:Class Timetable
ORGANIZER;CN="Jesmond Pool":MAILTO:info@jesmondpool.online
END:VEVENT
END:VCALENDAR