BEGIN:VCALENDAR
VERSION:2.0
PRODID:-//Jesmond Pool &amp; Gym - ECPv6.15.17.1//NONSGML v1.0//EN
CALSCALE:GREGORIAN
METHOD:PUBLISH
X-WR-CALNAME:Jesmond Pool &amp; Gym
X-ORIGINAL-URL:https://jesmondpool.online
X-WR-CALDESC:Events for Jesmond Pool &amp; Gym
REFRESH-INTERVAL;VALUE=DURATION:PT1H
X-Robots-Tag:noindex
X-PUBLISHED-TTL:PT1H
BEGIN:VTIMEZONE
TZID:Europe/London
BEGIN:DAYLIGHT
TZOFFSETFROM:+0000
TZOFFSETTO:+0100
TZNAME:BST
DTSTART:20250330T010000
END:DAYLIGHT
BEGIN:STANDARD
TZOFFSETFROM:+0100
TZOFFSETTO:+0000
TZNAME:GMT
DTSTART:20251026T010000
END:STANDARD
BEGIN:DAYLIGHT
TZOFFSETFROM:+0000
TZOFFSETTO:+0100
TZNAME:BST
DTSTART:20260329T010000
END:DAYLIGHT
BEGIN:STANDARD
TZOFFSETFROM:+0100
TZOFFSETTO:+0000
TZNAME:GMT
DTSTART:20261025T010000
END:STANDARD
BEGIN:DAYLIGHT
TZOFFSETFROM:+0000
TZOFFSETTO:+0100
TZNAME:BST
DTSTART:20270328T010000
END:DAYLIGHT
BEGIN:STANDARD
TZOFFSETFROM:+0100
TZOFFSETTO:+0000
TZNAME:GMT
DTSTART:20271031T010000
END:STANDARD
END:VTIMEZONE
BEGIN:VEVENT
DTSTART;TZID=Europe/London:20260513T070000
DTEND;TZID=Europe/London:20260513T093000
DTSTAMP:20260423T212711
CREATED:20260423T070050Z
LAST-MODIFIED:20260423T070050Z
UID:10026151-1778655600-1778664600@jesmondpool.online
SUMMARY:General Swim (Sauna and Steam Closed)
DESCRIPTION:
URL:https://jesmondpool.online/event/general-swim-sauna-and-steam-closed-30/2026-05-13/
LOCATION:Jesmond Pool & Gym\, St Georges Terrace\, Jesmond\, Newcastle upon Tyne\, NE2 2DL\, United Kingdom
CATEGORIES:Pool Timetable
ORGANIZER;CN="Jesmond Pool":MAILTO:info@jesmondpool.online
END:VEVENT
BEGIN:VEVENT
DTSTART;TZID=Europe/London:20260513T093000
DTEND;TZID=Europe/London:20260513T120000
DTSTAMP:20260423T212711
CREATED:20260423T070500Z
LAST-MODIFIED:20260423T070500Z
UID:10026178-1778664600-1778673600@jesmondpool.online
SUMMARY:General Swim (Sauna and Steam Open) (Swimming Lessons in the shallow end 11am to 12pm)(10am to 10.45am Deep Aquafit)
DESCRIPTION:
URL:https://jesmondpool.online/event/general-swim-sauna-and-steam-open-swimming-lessons-in-the-shallow-end-11am-to-12pm10am-to-10-45am-deep-aquafit-2/2026-05-13/
LOCATION:Jesmond Pool & Gym\, St Georges Terrace\, Jesmond\, Newcastle upon Tyne\, NE2 2DL\, United Kingdom
CATEGORIES:Pool Timetable
ORGANIZER;CN="Jesmond Pool":MAILTO:info@jesmondpool.online
END:VEVENT
BEGIN:VEVENT
DTSTART;TZID=Europe/London:20260513T120000
DTEND;TZID=Europe/London:20260513T130000
DTSTAMP:20260423T212711
CREATED:20260422T185233Z
LAST-MODIFIED:20260422T185233Z
UID:10026096-1778673600-1778677200@jesmondpool.online
SUMMARY:Adults Swim (Sauna and Steam Open)
DESCRIPTION:
URL:https://jesmondpool.online/event/adults-swim-sauna-and-steam-open-4/2026-05-13/
LOCATION:Jesmond Pool & Gym\, St Georges Terrace\, Jesmond\, Newcastle upon Tyne\, NE2 2DL\, United Kingdom
CATEGORIES:Pool Timetable
ORGANIZER;CN="Jesmond Pool":MAILTO:info@jesmondpool.online
END:VEVENT
BEGIN:VEVENT
DTSTART;TZID=Europe/London:20260513T130000
DTEND;TZID=Europe/London:20260513T160000
DTSTAMP:20260423T212711
CREATED:20260423T122626Z
LAST-MODIFIED:20260423T122626Z
UID:10026219-1778677200-1778688000@jesmondpool.online
SUMMARY:General Swim (Sauna and Steam Open)
DESCRIPTION:
URL:https://jesmondpool.online/event/general-swim-sauna-and-steam-open-47/2026-05-13/
LOCATION:Jesmond Pool & Gym\, St Georges Terrace\, Jesmond\, Newcastle upon Tyne\, NE2 2DL\, United Kingdom
CATEGORIES:Pool Timetable
ORGANIZER;CN="Jesmond Pool":MAILTO:info@jesmondpool.online
END:VEVENT
BEGIN:VEVENT
DTSTART;TZID=Europe/London:20260513T160000
DTEND;TZID=Europe/London:20260513T200000
DTSTAMP:20260423T212711
CREATED:20260423T122206Z
LAST-MODIFIED:20260423T122206Z
UID:10026202-1778688000-1778702400@jesmondpool.online
SUMMARY:Pool Closed for Swimming Lessons
DESCRIPTION:
URL:https://jesmondpool.online/event/pool-closed-for-swimming-lessons-25/2026-05-13/
LOCATION:Jesmond Pool & Gym\, St Georges Terrace\, Jesmond\, Newcastle upon Tyne\, NE2 2DL\, United Kingdom
CATEGORIES:Pool Timetable
ORGANIZER;CN="Jesmond Pool":MAILTO:info@jesmondpool.online
END:VEVENT
BEGIN:VEVENT
DTSTART;TZID=Europe/London:20260513T200000
DTEND;TZID=Europe/London:20260513T220000
DTSTAMP:20260423T212711
CREATED:20260422T185316Z
LAST-MODIFIED:20260422T185316Z
UID:10026116-1778702400-1778709600@jesmondpool.online
SUMMARY:Chill Out Session (Adults Only)
DESCRIPTION:
URL:https://jesmondpool.online/event/chill-out-session-adults-only-16/2026-05-13/
LOCATION:Jesmond Pool & Gym\, St Georges Terrace\, Jesmond\, Newcastle upon Tyne\, NE2 2DL\, United Kingdom
CATEGORIES:Pool Timetable
ORGANIZER;CN="Jesmond Pool":MAILTO:info@jesmondpool.online
END:VEVENT
END:VCALENDAR