BEGIN:VCALENDAR
VERSION:2.0
PRODID:-//Jesmond Pool &amp; Gym - ECPv6.15.17.1//NONSGML v1.0//EN
CALSCALE:GREGORIAN
METHOD:PUBLISH
X-ORIGINAL-URL:https://jesmondpool.online
X-WR-CALDESC:Events for Jesmond Pool &amp; Gym
REFRESH-INTERVAL;VALUE=DURATION:PT1H
X-Robots-Tag:noindex
X-PUBLISHED-TTL:PT1H
BEGIN:VTIMEZONE
TZID:Europe/London
BEGIN:DAYLIGHT
TZOFFSETFROM:+0000
TZOFFSETTO:+0100
TZNAME:BST
DTSTART:20250330T010000
END:DAYLIGHT
BEGIN:STANDARD
TZOFFSETFROM:+0100
TZOFFSETTO:+0000
TZNAME:GMT
DTSTART:20251026T010000
END:STANDARD
BEGIN:DAYLIGHT
TZOFFSETFROM:+0000
TZOFFSETTO:+0100
TZNAME:BST
DTSTART:20260329T010000
END:DAYLIGHT
BEGIN:STANDARD
TZOFFSETFROM:+0100
TZOFFSETTO:+0000
TZNAME:GMT
DTSTART:20261025T010000
END:STANDARD
BEGIN:DAYLIGHT
TZOFFSETFROM:+0000
TZOFFSETTO:+0100
TZNAME:BST
DTSTART:20270328T010000
END:DAYLIGHT
BEGIN:STANDARD
TZOFFSETFROM:+0100
TZOFFSETTO:+0000
TZNAME:GMT
DTSTART:20271031T010000
END:STANDARD
END:VTIMEZONE
BEGIN:VEVENT
DTSTART;TZID=Europe/London:20260427T070000
DTEND;TZID=Europe/London:20260427T090000
DTSTAMP:20260423T201248
CREATED:20260423T065953Z
LAST-MODIFIED:20260423T065953Z
UID:10026136-1777273200-1777280400@jesmondpool.online
SUMMARY:General Swim (Sauna and Steam Closed)
DESCRIPTION:
URL:https://jesmondpool.online/event/general-swim-sauna-and-steam-closed-29/2026-04-27/
LOCATION:Jesmond Pool & Gym\, St Georges Terrace\, Jesmond\, Newcastle upon Tyne\, NE2 2DL\, United Kingdom
CATEGORIES:Pool Timetable
ORGANIZER;CN="Jesmond Pool":MAILTO:info@jesmondpool.online
END:VEVENT
BEGIN:VEVENT
DTSTART;TZID=Europe/London:20260427T090000
DTEND;TZID=Europe/London:20260427T093000
DTSTAMP:20260423T201248
CREATED:20260423T070143Z
LAST-MODIFIED:20260423T070143Z
UID:10026156-1777280400-1777282200@jesmondpool.online
SUMMARY:Pool Closed
DESCRIPTION:
URL:https://jesmondpool.online/event/pool-closed/2026-04-27/
LOCATION:Jesmond Pool & Gym\, St Georges Terrace\, Jesmond\, Newcastle upon Tyne\, NE2 2DL\, United Kingdom
CATEGORIES:Pool Timetable
ORGANIZER;CN="Jesmond Pool":MAILTO:info@jesmondpool.online
END:VEVENT
BEGIN:VEVENT
DTSTART;TZID=Europe/London:20260427T093000
DTEND;TZID=Europe/London:20260427T120000
DTSTAMP:20260423T201248
CREATED:20260423T070312Z
LAST-MODIFIED:20260423T070312Z
UID:10026164-1777282200-1777291200@jesmondpool.online
SUMMARY:General Swim (Sauna and Steam Open) (10am to 10.45am Aquafit in the Deep end)
DESCRIPTION:
URL:https://jesmondpool.online/event/general-swim-sauna-and-steam-open-10am-to-10-45am-aquafit-in-the-deep-end/2026-04-27/
LOCATION:Newcastle upon Tyne
CATEGORIES:Pool Timetable
ORGANIZER;CN="Jesmond Pool":MAILTO:info@jesmondpool.online
END:VEVENT
BEGIN:VEVENT
DTSTART;TZID=Europe/London:20260427T120000
DTEND;TZID=Europe/London:20260427T130000
DTSTAMP:20260423T201248
CREATED:20260422T185233Z
LAST-MODIFIED:20260422T185233Z
UID:10026084-1777291200-1777294800@jesmondpool.online
SUMMARY:Adults Swim (Sauna and Steam Open)
DESCRIPTION:
URL:https://jesmondpool.online/event/adults-swim-sauna-and-steam-open-4/2026-04-27/
LOCATION:Jesmond Pool & Gym\, St Georges Terrace\, Jesmond\, Newcastle upon Tyne\, NE2 2DL\, United Kingdom
CATEGORIES:Pool Timetable
ORGANIZER;CN="Jesmond Pool":MAILTO:info@jesmondpool.online
END:VEVENT
BEGIN:VEVENT
DTSTART;TZID=Europe/London:20260427T130000
DTEND;TZID=Europe/London:20260427T160000
DTSTAMP:20260423T201248
CREATED:20260423T122313Z
LAST-MODIFIED:20260423T122313Z
UID:10026204-1777294800-1777305600@jesmondpool.online
SUMMARY:General Swim (Sauna and Steam Open) (1 lane only between 3pm and 4pm for private booking)
DESCRIPTION:
URL:https://jesmondpool.online/event/general-swim-sauna-and-steam-open-1-lane-only-between-3pm-and-4pm-for-private-booking-4/2026-04-27/
LOCATION:Jesmond Pool & Gym\, St Georges Terrace\, Jesmond\, Newcastle upon Tyne\, NE2 2DL\, United Kingdom
CATEGORIES:Pool Timetable
ORGANIZER;CN="Jesmond Pool":MAILTO:info@jesmondpool.online
END:VEVENT
BEGIN:VEVENT
DTSTART;TZID=Europe/London:20260427T160000
DTEND;TZID=Europe/London:20260427T190000
DTSTAMP:20260423T201248
CREATED:20260423T122053Z
LAST-MODIFIED:20260423T122053Z
UID:10026184-1777305600-1777316400@jesmondpool.online
SUMMARY:Pool Closed For Swimming Lessons
DESCRIPTION:
URL:https://jesmondpool.online/event/pool-closed-for-swimming-lessons-24/2026-04-27/
LOCATION:Jesmond Pool & Gym\, St Georges Terrace\, Jesmond\, Newcastle upon Tyne\, NE2 2DL\, United Kingdom
CATEGORIES:Pool Timetable
ORGANIZER;CN="Jesmond Pool":MAILTO:info@jesmondpool.online
END:VEVENT
BEGIN:VEVENT
DTSTART;TZID=Europe/London:20260427T200000
DTEND;TZID=Europe/London:20260427T220000
DTSTAMP:20260423T201248
CREATED:20260422T185316Z
LAST-MODIFIED:20260422T185316Z
UID:10026104-1777320000-1777327200@jesmondpool.online
SUMMARY:Chill Out Session (Adults Only)
DESCRIPTION:
URL:https://jesmondpool.online/event/chill-out-session-adults-only-16/2026-04-27/
LOCATION:Jesmond Pool & Gym\, St Georges Terrace\, Jesmond\, Newcastle upon Tyne\, NE2 2DL\, United Kingdom
CATEGORIES:Pool Timetable
ORGANIZER;CN="Jesmond Pool":MAILTO:info@jesmondpool.online
END:VEVENT
END:VCALENDAR